Workbook
Name Team_Relay: Female!$B$3:$B$11

Sheet Male
A2: SCHOOL | B2: Team Run | C2: Place | D2: C C R | E2: Place | F2: RFC | G2: Place | H2: Rope Bridge | I2: Place | J2: Tire Flip | K2: Place | L2: -NA- | M2: Place | N2: Total Points | O2: Overall Finish | P2: SCHOOL | Q2: Group
A3: Campbell High School | B3: 0.0044560185 | C3: =IF(B3<>"",RANK(B3,$B$3:$B$17,1),"") -> 2 | D3: 0.0023553241 | E3: =IF(D3<>"",RANK(D3,$D$3:$D$17,1),"") -> 3 | F3: 0.0030902778 | G3: =IF(F3<>"",RANK(F3,$F$3:$F$17,1),"") -> 4 | H3: 0.0013049769 | I3: =IF(H3<>"",RANK(H3,$H$3:$H$17,1),"") -> 2 | J3: 0.0014467593 | K3: =IF(J3<>"",RANK(J3,$J$3:$J$17,1),"") -> 2 | M3: =IF(L3<>"",RANK(L3,$L$3:$L$17,1),"") | N3: =SUM(C3,E3,G3,I3,K3,M3) -> 13 | O3: =IF(N3<>"",RANK(N3,$N$3:$N$17,1),"") -> 2 | P3: Campbell High School
A4: Creekview | B4: 0.0072685185 | C4: =IF(B4<>"",RANK(B4,$B$3:$B$17,1),"") -> 13 | D4: 0.0049659722 | E4: =IF(D4<>"",RANK(D4,$D$3:$D$17,1),"") -> 10 | F4: 0.0048451389 | G4: =IF(F4<>"",RANK(F4,$F$3:$F$17,1),"") -> 13 | H4: 60 | I4: =IF(H4<>"",RANK(H4,$H$3:$H$17,1),"") -> 12 | J4: 0.0037384259 | K4: =IF(J4<>"",RANK(J4,$J$3:$J$17,1),"") -> 13 | M4: =IF(L4<>"",RANK(L4,$L$3:$L$17,1),"") | N4: =SUM(C4,E4,G4,I4,K4,M4) -> 61 | O4: =IF(N4<>"",RANK(N4,$N$3:$N$17,1),"") -> 13 | P4: Creekview
A5: Douglas County High School | B5: 0.0053240741 | C5: =IF(B5<>"",RANK(B5,$B$3:$B$17,1),"") -> 8 | D5: 0.0062734954 | E5: =IF(D5<>"",RANK(D5,$D$3:$D$17,1),"") -> 12 | F5: 0.0048263889 | G5: =IF(F5<>"",RANK(F5,$F$3:$F$17,1),"") -> 12 | H5: 0.0025148148 | I5: =IF(H5<>"",RANK(H5,$H$3:$H$17,1),"") -> 9 | J5: 0.0019212963 | K5: =IF(J5<>"",RANK(J5,$J$3:$J$17,1),"") -> 7 | M5: =IF(L5<>"",RANK(L5,$L$3:$L$17,1),"") | N5: =SUM(C5,E5,G5,I5,K5,M5) -> 48 | O5: =IF(N5<>"",RANK(N5,$N$3:$N$17,1),"") -> 11 | P5: Douglas County High School
A6: Etowah High School | B6: 0.0047222222 | C6: =IF(B6<>"",RANK(B6,$B$3:$B$17,1),"") -> 4 | D6: 0.002334375 | E6: =IF(D6<>"",RANK(D6,$D$3:$D$17,1),"") -> 2 | F6: 0.0039236111 | G6: =IF(F6<>"",RANK(F6,$F$3:$F$17,1),"") -> 8 | H6: 0.0014991898 | I6: =IF(H6<>"",RANK(H6,$H$3:$H$17,1),"") -> 3 | J6: 0.0015509259 | K6: =IF(J6<>"",RANK(J6,$J$3:$J$17,1),"") -> 5 | M6: =IF(L6<>"",RANK(L6,$L$3:$L$17,1),"") | N6: =SUM(C6,E6,G6,I6,K6,M6) -> 22 | O6: =IF(N6<>"",RANK(N6,$N$3:$N$17,1),"") -> 4 | P6: Etowah High School
A7: Fayette Co High School | B7: 0.0059375 | C7: =IF(B7<>"",RANK(B7,$B$3:$B$17,1),"") -> 12 | D7: 0.0035818287 | E7: =IF(D7<>"",RANK(D7,$D$3:$D$17,1),"") -> 7 | F7: 0.0039699074 | G7: =IF(F7<>"",RANK(F7,$F$3:$F$17,1),"") -> 9 | H7: 0.0036730324 | I7: =IF(H7<>"",RANK(H7,$H$3:$H$17,1),"") -> 10 | J7: 0.0019791667 | K7: =IF(J7<>"",RANK(J7,$J$3:$J$17,1),"") -> 8 | M7: =IF(L7<>"",RANK(L7,$L$3:$L$17,1),"") | N7: =SUM(C7,E7,G7,I7,K7,M7) -> 46 | O7: =IF(N7<>"",RANK(N7,$N$3:$N$17,1),"") -> 9 | P7: Fayette Co High School
A8: Langston Hughes High School | B8: 0.0059259259 | C8: =IF(B8<>"",RANK(B8,$B$3:$B$17,1),"") -> 11 | D8: 0.0056365741 | E8: =IF(D8<>"",RANK(D8,$D$3:$D$17,1),"") -> 11 | F8: 0.0044791667 | G8: =IF(F8<>"",RANK(F8,$F$3:$F$17,1),"") -> 10 | H8: 0.0023180556 | I8: =IF(H8<>"",RANK(H8,$H$3:$H$17,1),"") -> 7 | J8: 0.001875 | K8: =IF(J8<>"",RANK(J8,$J$3:$J$17,1),"") -> 6 | M8: =IF(L8<>"",RANK(L8,$L$3:$L$17,1),"") | N8: =SUM(C8,E8,G8,I8,K8,M8) -> 45 | O8: =IF(N8<>"",RANK(N8,$N$3:$N$17,1),"") -> 8 | P8: Langston Hughes High School
A9: New Manchester High School | B9: 0.0054976852 | C9: =IF(B9<>"",RANK(B9,$B$3:$B$17,1),"") -> 9 | D9: 60 | E9: =IF(D9<>"",RANK(D9,$D$3:$D$17,1),"") -> 13 | F9: 0.0046759259 | G9: =IF(F9<>"",RANK(F9,$F$3:$F$17,1),"") -> 11 | H9: 0.0039355324 | I9: =IF(H9<>"",RANK(H9,$H$3:$H$17,1),"") -> 11 | J9: 0.002662037 | K9: =IF(J9<>"",RANK(J9,$J$3:$J$17,1),"") -> 11 | M9: =IF(L9<>"",RANK(L9,$L$3:$L$17,1),"") | N9: =SUM(C9,E9,G9,I9,K9,M9) -> 55 | O9: =IF(N9<>"",RANK(N9,$N$3:$N$17,1),"") -> 12 | P9: New Manchester High School
A10: North Paulding High School | B10: 0.0046759259 | C10: =IF(B10<>"",RANK(B10,$B$3:$B$17,1),"") -> 3 | D10: 0.0027907407 | E10: =IF(D10<>"",RANK(D10,$D$3:$D$17,1),"") -> 4 | F10: 0.0026269676 | G10: =IF(F10<>"",RANK(F10,$F$3:$F$17,1),"") -> 3 | H10: 0.0015939815 | I10: =IF(H10<>"",RANK(H10,$H$3:$H$17,1),"") -> 5 | J10: 0.0015046296 | K10: =IF(J10<>"",RANK(J10,$J$3:$J$17,1),"") -> 3 | M10: =IF(L10<>"",RANK(L10,$L$3:$L$17,1),"") | N10: =SUM(C10,E10,G10,I10,K10,M10) -> 18 | O10: =IF(N10<>"",RANK(N10,$N$3:$N$17,1),"") -> 3 | P10: North Paulding High School
A11: North Springs High | B11: 0.0051736111 | C11: =IF(B11<>"",RANK(B11,$B$3:$B$17,1),"") -> 7 | D11: 0.0035857639 | E11: =IF(D11<>"",RANK(D11,$D$3:$D$17,1),"") -> 8 | F11: 0.0034722222 | G11: =IF(F11<>"",RANK(F11,$F$3:$F$17,1),"") -> 5 | H11: 0.0017368056 | I11: =IF(H11<>"",RANK(H11,$H$3:$H$17,1),"") -> 6 | J11: 0.0021527778 | K11: =IF(J11<>"",RANK(J11,$J$3:$J$17,1),"") -> 9 | M11: =IF(L11<>"",RANK(L11,$L$3:$L$17,1),"") | N11: =SUM(C11,E11,G11,I11,K11,M11) -> 35 | O11: =IF(N11<>"",RANK(N11,$N$3:$N$17,1),"") -> 6 | P11: North Springs High
A12: NorthSide | B12: 0.0049652778 | C12: =IF(B12<>"",RANK(B12,$B$3:$B$17,1),"") -> 6 | D12: 0.0029962963 | E12: =IF(D12<>"",RANK(D12,$D$3:$D$17,1),"") -> 6 | F12: 0.0024957176 | G12: =IF(F12<>"",RANK(F12,$F$3:$F$17,1),"") -> 2 | H12: 0.0015773148 | I12: =IF(H12<>"",RANK(H12,$H$3:$H$17,1),"") -> 4 | J12: 0.0015162037 | K12: =IF(J12<>"",RANK(J12,$J$3:$J$17,1),"") -> 4 | M12: =IF(L12<>"",RANK(L12,$L$3:$L$17,1),"") | N12: =SUM(C12,E12,G12,I12,K12,M12) -> 22 | O12: =IF(N12<>"",RANK(N12,$N$3:$N$17,1),"") -> 4 | P12: NorthSide
A13: Osborne High School | B13: 0.0042013889 | C13: =IF(B13<>"",RANK(B13,$B$3:$B$17,1),"") -> 1 | D13: 0.0022193287 | E13: =IF(D13<>"",RANK(D13,$D$3:$D$17,1),"") -> 1 | F13: 0.0024125 | G13: =IF(F13<>"",RANK(F13,$F$3:$F$17,1),"") -> 1 | H13: 0.00095601852 | I13: =IF(H13<>"",RANK(H13,$H$3:$H$17,1),"") -> 1 | J13: 0.0013078704 | K13: =IF(J13<>"",RANK(J13,$J$3:$J$17,1),"") -> 1 | M13: =IF(L13<>"",RANK(L13,$L$3:$L$17,1),"") | N13: =SUM(C13,E13,G13,I13,K13,M13) -> 5 | O13: =IF(N13<>"",RANK(N13,$N$3:$N$17,1),"") -> 1 | P13: Osborne High School
A14: Paulding County High School | B14: 0.0056365741 | C14: =IF(B14<>"",RANK(B14,$B$3:$B$17,1),"") -> 10 | D14: 0.0037792824 | E14: =IF(D14<>"",RANK(D14,$D$3:$D$17,1),"") -> 9 | F14: 0.0035695602 | G14: =IF(F14<>"",RANK(F14,$F$3:$F$17,1),"") -> 7 | H14: 0.0023655093 | I14: =IF(H14<>"",RANK(H14,$H$3:$H$17,1),"") -> 8 | J14: 0.0030451389 | K14: =IF(J14<>"",RANK(J14,$J$3:$J$17,1),"") -> 12 | M14: =IF(L14<>"",RANK(L14,$L$3:$L$17,1),"") | N14: =SUM(C14,E14,G14,I14,K14,M14) -> 46 | O14: =IF(N14<>"",RANK(N14,$N$3:$N$17,1),"") -> 9 | P14: Paulding County High School
A15: Riverwood High School | B15: 0.0049421296 | C15: =IF(B15<>"",RANK(B15,$B$3:$B$17,1),"") -> 5 | D15: 0.0028545139 | E15: =IF(D15<>"",RANK(D15,$D$3:$D$17,1),"") -> 5 | F15: 0.0035416667 | G15: =IF(F15<>"",RANK(F15,$F$3:$F$17,1),"") -> 6 | H15: 60 | I15: =IF(H15<>"",RANK(H15,$H$3:$H$17,1),"") -> 12 | J15: 0.0022337963 | K15: =IF(J15<>"",RANK(J15,$J$3:$J$17,1),"") -> 10 | M15: =IF(L15<>"",RANK(L15,$L$3:$L$17,1),"") | N15: =SUM(C15,E15,G15,I15,K15,M15) -> 38 | O15: =IF(N15<>"",RANK(N15,$N$3:$N$17,1),"") -> 7 | P15: Riverwood High School
A16: EMPTY 4 | S16: 0.0008193287
A17: EMPTY 5 | S17: 0.041655093
A18: Disqualified
A19: Penalty Added
A20: Did Not Participate
A21: TIE BREAKER TEAM RUN
F22: FINAL 17SEP

Sheet Mixed
A2: SCHOOL | B2: Team Run | C2: Place | D2: C C R | E2: Place | F2: RFC | G2: Place | H2: Rope Bridge | I2: Place | J2: Tire Flip | K2: Place | L2: -NA- | M2: Place | N2: Total Points | O2: Overall Finish | P2: SCHOOL | Q2: Group
A3: Alexander High School 1 | B3: 0.0060300926 | C3: =IF(B3<>"",RANK(B3,$B$3:$B$18,1),"") -> 3 | D3: 0.0037918981 | E3: =IF(D3<>"",RANK(D3,$D$3:$D$18,1),"") -> 7 | F3: 0.0039137731 | G3: =IF(F3<>"",RANK(F3,$F$3:$F$18,1),"") -> 4 | H3: 0.0016898148 | I3: =IF(H3<>"",RANK(H3,$H$3:$H$18,1),"") -> 5 | J3: 0.0018981481 | K3: =IF(J3<>"",RANK(J3,$J$3:$J$18,1),"") -> 9 | M3: =IF(L3<>"",RANK(L3,$L$3:$L$18,1),"") | N3: =SUM(C3,E3,G3,I3,K3,M3) -> 28 | O3: =IF(N3<>"",RANK(N3,$N$3:$N$18,1),"") -> 5 | P3: Alexander High School
A4: Alexander High School 2 | B4: 0.0077314815 | C4: =IF(B4<>"",RANK(B4,$B$4:$B$21,1),"") -> 15 | D4: 0.0039799769 | E4: =IF(D4<>"",RANK(D4,$D$4:$D$21,1),"") -> 12 | F4: 0.0049131944 | G4: =IF(F4<>"",RANK(F4,$F$4:$F$21,1),"") -> 9 | H4: 60 | I4: =IF(H4<>"",RANK(H4,$H$4:$H$21,1),"") -> 14 | J4: 0.0016087963 | K4: =IF(J4<>"",RANK(J4,$J$4:$J$21,1),"") -> 4 | N4: =SUM(C4,E4,G4,I4,K4,M4) -> 54 | O4: =IF(N4<>"",RANK(N4,$N$4:$N$21,1),"") -> 11 | P4: Alexander High School
A5: Creekview | B5: 0.0064583333 | C5: =IF(B5<>"",RANK(B5,$B$4:$B$21,1),"") -> 8 | D5: 0.0039293981 | E5: =IF(D5<>"",RANK(D5,$D$4:$D$21,1),"") -> 8 | F5: 0.0034429398 | G5: =IF(F5<>"",RANK(F5,$F$4:$F$21,1),"") -> 2 | H5: 60 | I5: =IF(H5<>"",RANK(H5,$H$4:$H$21,1),"") -> 14 | J5: 0.0019328704 | K5: =IF(J5<>"",RANK(J5,$J$4:$J$21,1),"") -> 9 | N5: =SUM(C5,E5,G5,I5,K5,M5) -> 41 | O5: =IF(N5<>"",RANK(N5,$N$4:$N$21,1),"") -> 9 | P5: Creekview
A6: East Paulding High 1 | B6: 0.0063078704 | C6: =IF(B6<>"",RANK(B6,$B$4:$B$21,1),"") -> 5 | D6: 0.0034342593 | E6: =IF(D6<>"",RANK(D6,$D$4:$D$21,1),"") -> 4 | F6: 0.0041087963 | G6: =IF(F6<>"",RANK(F6,$F$4:$F$21,1),"") -> 5 | H6: 0.00099537037 | I6: =IF(H6<>"",RANK(H6,$H$4:$H$21,1),"") -> 1 | J6: 0.0014814815 | K6: =IF(J6<>"",RANK(J6,$J$4:$J$21,1),"") -> 1 | N6: =SUM(C6,E6,G6,I6,K6,M6) -> 16 | O6: =IF(N6<>"",RANK(N6,$N$4:$N$21,1),"") -> 2 | P6: East Paulding High School
A7: East Paulding High 2 | B7: 0.0075810185 | C7: =IF(B7<>"",RANK(B7,$B$4:$B$21,1),"") -> 14 | D7: 0.0046719907 | E7: =IF(D7<>"",RANK(D7,$D$4:$D$21,1),"") -> 16 | F7: 0.0064351852 | G7: =IF(F7<>"",RANK(F7,$F$4:$F$21,1),"") -> 14 | H7: 0.0017939815 | I7: =IF(H7<>"",RANK(H7,$H$4:$H$21,1),"") -> 6 | J7: 0.0020486111 | K7: =IF(J7<>"",RANK(J7,$J$4:$J$21,1),"") -> 12 | N7: =SUM(C7,E7,G7,I7,K7,M7) -> 62 | O7: =IF(N7<>"",RANK(N7,$N$4:$N$21,1),"") -> 13 | P7: East Paulding High School
A8: Etowah High School | B8: 0.0068287037 | C8: =IF(B8<>"",RANK(B8,$B$4:$B$21,1),"") -> 12 | D8: 0.003969213 | E8: =IF(D8<>"",RANK(D8,$D$4:$D$21,1),"") -> 11 | F8: 0.0069097222 | G8: =IF(F8<>"",RANK(F8,$F$4:$F$21,1),"") -> 15 | H8: 0.0026157407 | I8: =IF(H8<>"",RANK(H8,$H$4:$H$21,1),"") -> 11 | J8: 0.0022453704 | K8: =IF(J8<>"",RANK(J8,$J$4:$J$21,1),"") -> 15 | N8: =SUM(C8,E8,G8,I8,K8,M8) -> 64 | O8: =IF(N8<>"",RANK(N8,$N$4:$N$21,1),"") -> 14 | P8: Etowah High School
A9: Haralson County High School | B9: 0.0084027778 | C9: =IF(B9<>"",RANK(B9,$B$4:$B$21,1),"") -> 16 | D9: 0.0040890046 | E9: =IF(D9<>"",RANK(D9,$D$4:$D$21,1),"") -> 13 | F9: 0.0057291667 | G9: =IF(F9<>"",RANK(F9,$F$4:$F$21,1),"") -> 13 | H9: 0.0032291667 | I9: =IF(H9<>"",RANK(H9,$H$4:$H$21,1),"") -> 12 | J9: 0.0021527778 | K9: =IF(J9<>"",RANK(J9,$J$4:$J$21,1),"") -> 14 | N9: =SUM(C9,E9,G9,I9,K9,M9) -> 68 | O9: =IF(N9<>"",RANK(N9,$N$4:$N$21,1),"") -> 15 | P9: Haralson County High School
A10: Hiram High School | B10: 0.006712963 | C10: =IF(B10<>"",RANK(B10,$B$4:$B$21,1),"") -> 11 | D10: 0.0034668981 | E10: =IF(D10<>"",RANK(D10,$D$4:$D$21,1),"") -> 5 | F10: 0.0050115741 | G10: =IF(F10<>"",RANK(F10,$F$4:$F$21,1),"") -> 10 | H10: 0.0017592593 | I10: =IF(H10<>"",RANK(H10,$H$4:$H$21,1),"") -> 5 | J10: 0.0016782407 | K10: =IF(J10<>"",RANK(J10,$J$4:$J$21,1),"") -> 6 | N10: =SUM(C10,E10,G10,I10,K10,M10) -> 37 | O10: =IF(N10<>"",RANK(N10,$N$4:$N$21,1),"") -> 7 | P10: Hiram High School
A11: New Manchester High School | B11: 0.0065509259 | C11: =IF(B11<>"",RANK(B11,$B$4:$B$21,1),"") -> 9 | D11: 0.0046013889 | E11: =IF(D11<>"",RANK(D11,$D$4:$D$21,1),"") -> 15 | F11: 0.0076219907 | G11: =IF(F11<>"",RANK(F11,$F$4:$F$21,1),"") -> 16 | H11: 0.0050694444 | I11: =IF(H11<>"",RANK(H11,$H$4:$H$21,1),"") -> 13 | J11: 0.0028125 | K11: =IF(J11<>"",RANK(J11,$J$4:$J$21,1),"") -> 16 | N11: =SUM(C11,E11,G11,I11,K11,M11) -> 69 | O11: =IF(N11<>"",RANK(N11,$N$4:$N$21,1),"") -> 16 | P11: New Manchester High School
A12: North Paulding High 1 | B12: 0.0058217593 | C12: =IF(B12<>"",RANK(B12,$B$4:$B$21,1),"") -> 2 | D12: 0.0031954861 | E12: =IF(D12<>"",RANK(D12,$D$4:$D$21,1),"") -> 2 | F12: 0.0035743056 | G12: =IF(F12<>"",RANK(F12,$F$4:$F$21,1),"") -> 3 | H12: 0.0011006944 | I12: =IF(H12<>"",RANK(H12,$H$4:$H$21,1),"") -> 2 | J12: 0.0016666667 | K12: =IF(J12<>"",RANK(J12,$J$4:$J$21,1),"") -> 5 | N12: =SUM(C12,E12,G12,I12,K12,M12) -> 14 | O12: =IF(N12<>"",RANK(N12,$N$4:$N$21,1),"") -> 1 | P12: North Paulding High School
A13: North Paulding High 2 | B13: 0.0060300926 | C13: =IF(B13<>"",RANK(B13,$B$4:$B$21,1),"") -> 4 | D13: 0.0039511574 | E13: =IF(D13<>"",RANK(D13,$D$4:$D$21,1),"") -> 9 | F13: 0.0050462963 | G13: =IF(F13<>"",RANK(F13,$F$4:$F$21,1),"") -> 11 | H13: 0.0025810185 | I13: =IF(H13<>"",RANK(H13,$H$4:$H$21,1),"") -> 10 | J13: 0.002037037 | K13: =IF(J13<>"",RANK(J13,$J$4:$J$21,1),"") -> 11 | N13: =SUM(C13,E13,G13,I13,K13,M13) -> 45 | O13: =IF(N13<>"",RANK(N13,$N$4:$N$21,1),"") -> 10 | P13: North Paulding High School
A14: Paulding County High School | B14: 0.0063194444 | C14: =IF(B14<>"",RANK(B14,$B$4:$B$21,1),"") -> 6 | D14: 0.0036697917 | E14: =IF(D14<>"",RANK(D14,$D$4:$D$21,1),"") -> 6 | F14: 0.0040972222 | G14: =IF(F14<>"",RANK(F14,$F$4:$F$21,1),"") -> 4 | H14: 0.0012152778 | I14: =IF(H14<>"",RANK(H14,$H$4:$H$21,1),"") -> 3 | J14: 0.0017013889 | K14: =IF(J14<>"",RANK(J14,$J$4:$J$21,1),"") -> 7 | N14: =SUM(C14,E14,G14,I14,K14,M14) -> 26 | O14: =IF(N14<>"",RANK(N14,$N$4:$N$21,1),"") -> 3 | P14: Paulding County High School
A15: Riverwood High School | B15: 0.0057407407 | C15: =IF(B15<>"",RANK(B15,$B$4:$B$21,1),"") -> 1 | D15: 0.0031886574 | E15: =IF(D15<>"",RANK(D15,$D$4:$D$21,1),"") -> 1 | F15: 0.0043318287 | G15: =IF(F15<>"",RANK(F15,$F$4:$F$21,1),"") -> 6 | H15: 0.0023148148 | I15: =IF(H15<>"",RANK(H15,$H$4:$H$21,1),"") -> 9 | J15: 0.0019444444 | K15: =IF(J15<>"",RANK(J15,$J$4:$J$21,1),"") -> 10 | N15: =SUM(C15,E15,G15,I15,K15,M15) -> 27 | O15: =IF(N15<>"",RANK(N15,$N$4:$N$21,1),"") -> 4 | P15: Riverwood High School
... A19: South Paulding High School | B19: 0.0059953704 | C19: =IF(B19<>"",RANK(B19,$B$4:$B$21,1),"") -> 3 | D19: 0.003262037 | E19: =IF(D19<>"",RANK(D19,$D$4:$D$21,1),"") -> 3 | F19: 0.0043981481 | G19: =IF(F19<>"",RANK(F19,$F$4:$F$21,1),"") -> 7 | H19: 60 | I19: =IF(H19<>"",RANK(H19,$H$4:$H$21,1),"") -> 14 | J19: 0.0020717593 | K19: =IF(J19<>"",RANK(J19,$J$4:$J$21,1),"") -> 13 | N19: =SUM(C19,E19,G19,I19,K19,M19) -> 40 | O19: =IF(N19<>"",RANK(N19,$N$4:$N$21,1),"") -> 8 | P19: South Paulding High School
A20: EMPTY 10
A21: EMPTY 11
A23: Disqualified
A24: Penalty Added
A25: Did Not Participate
A26: TIE BREAKER TEAM RUN

Sheet Female
A2: SCHOOL | B2: Team Run | C2: Place | D2: C C R | E2: Place | F2: RFC | G2: Place | H2: Rope Bridge | I2: Place | J2: Tire Flip | K2: Place | L2: -NA- | M2: Place | N2: Total Points | O2: Overall Finish | P2: SCHOOL | Q2: Group
A3: Campbell High School | B3: 0.005775463 | C3: =IF(B3<>"",RANK(B3,$B$3:$B$17,1),"") -> 2 | D3: 0.0032136574 | E3: =IF(D3<>"",RANK(D3,$D$3:$D$17,1),"") -> 2 | F3: 0.0036111111 | G3: =IF(F3<>"",RANK(F3,$F$3:$F$17,1),"") -> 2 | H3: 0.0014236111 | I3: =IF(H3<>"",RANK(H3,$H$3:$H$17,1),"") -> 2 | J3: 0.0016203704 | K3: =IF(J3<>"",RANK(J3,$J$3:$J$17,1),"") -> 1 | M3: =IF(L3<>"",RANK(L3,$L$3:$L$11,1),"") | N3: =SUM(C3,E3,G3,I3,K3,M3) -> 9 | O3: =IF(N3<>"",RANK(N3,$N$3:$N$11,1),"") -> 2 | P3: Campbell High School
A4: Etowah High School | B4: 0.0066666667 | C4: =IF(B4<>"",RANK(B4,$B$3:$B$11,1),"") -> 6 | D4: 0.0037163194 | E4: =IF(D4<>"",RANK(D4,$D$3:$D$11,1),"") -> 3 | F4: 0.0054513889 | G4: =IF(F4<>"",RANK(F4,$F$3:$F$11,1),"") -> 7 | H4: 0.0015625 | I4: =IF(H4<>"",RANK(H4,$H$3:$H$11,1),"") -> 3 | J4: 0.0027893519 | K4: =IF(J4<>"",RANK(J4,$J$3:$J$11,1),"") -> 8 | M4: =IF(L4<>"",RANK(L4,$L$3:$L$11,1),"") | N4: =SUM(C4,E4,G4,I4,K4,M4) -> 27 | O4: =IF(N4<>"",RANK(N4,$N$3:$N$11,1),"") -> 5 | P4: Etowah High School
A5: Hiram High School | B5: 0.0087384259 | C5: =IF(B5<>"",RANK(B5,$B$3:$B$11,1),"") -> 9 | D5: 0.0062506944 | E5: =IF(D5<>"",RANK(D5,$D$3:$D$11,1),"") -> 9 | F5: 0.0063194444 | G5: =IF(F5<>"",RANK(F5,$F$3:$F$11,1),"") -> 9 | H5: 60 | I5: =IF(H5<>"",RANK(H5,$H$3:$H$11,1),"") -> 9 | J5: 0.0020717593 | K5: =IF(J5<>"",RANK(J5,$J$3:$J$11,1),"") -> 4 | M5: =IF(L5<>"",RANK(L5,$L$3:$L$11,1),"") | N5: =SUM(C5,E5,G5,I5,K5,M5) -> 40 | O5: =IF(N5<>"",RANK(N5,$N$3:$N$11,1),"") -> 9 | P5: Hiram High School
A6: Langston Hughes High School | B6: 0.0064699074 | C6: =IF(B6<>"",RANK(B6,$B$3:$B$11,1),"") -> 5 | D6: 0.0039076389 | E6: =IF(D6<>"",RANK(D6,$D$3:$D$11,1),"") -> 4 | F6: 0.0059375 | G6: =IF(F6<>"",RANK(F6,$F$3:$F$11,1),"") -> 8 | H6: 0.0037037037 | I6: =IF(H6<>"",RANK(H6,$H$3:$H$11,1),"") -> 7 | J6: 0.0022453704 | K6: =IF(J6<>"",RANK(J6,$J$3:$J$11,1),"") -> 5 | M6: =IF(L6<>"",RANK(L6,$L$3:$L$11,1),"") | N6: =SUM(C6,E6,G6,I6,K6,M6) -> 29 | O6: =IF(N6<>"",RANK(N6,$N$3:$N$11,1),"") -> 6 | P6: Langston Hughes High School
A7: North Springs High | B7: 0.006400463 | C7: =IF(B7<>"",RANK(B7,$B$3:$B$11,1),"") -> 4 | D7: 0.0039181713 | E7: =IF(D7<>"",RANK(D7,$D$3:$D$11,1),"") -> 5 | F7: 0.005150463 | G7: =IF(F7<>"",RANK(F7,$F$3:$F$11,1),"") -> 5 | H7: 0.0021527778 | I7: =IF(H7<>"",RANK(H7,$H$3:$H$11,1),"") -> 5 | J7: 0.0023148148 | K7: =IF(J7<>"",RANK(J7,$J$3:$J$11,1),"") -> 6 | M7: =IF(L7<>"",RANK(L7,$L$3:$L$11,1),"") | N7: =SUM(C7,E7,G7,I7,K7,M7) -> 25 | O7: =IF(N7<>"",RANK(N7,$N$3:$N$11,1),"") -> 4 | P7: North Springs High
A8: NorthSide | B8: 0.0059722222 | C8: =IF(B8<>"",RANK(B8,$B$3:$B$11,1),"") -> 3 | D8: 0.0040230324 | E8: =IF(D8<>"",RANK(D8,$D$3:$D$11,1),"") -> 6 | F8: 0.00455625 | G8: =IF(F8<>"",RANK(F8,$F$3:$F$11,1),"") -> 3 | H8: 0.0015625 | I8: =IF(H8<>"",RANK(H8,$H$3:$H$11,1),"") -> 3 | J8: 0.0020601852 | K8: =IF(J8<>"",RANK(J8,$J$3:$J$11,1),"") -> 3 | M8: =IF(L8<>"",RANK(L8,$L$3:$L$11,1),"") | N8: =SUM(C8,E8,G8,I8,K8,M8) -> 18 | O8: =IF(N8<>"",RANK(N8,$N$3:$N$11,1),"") -> 3 | P8: NorthSide
A9: Osborne High School | B9: 0.0052662037 | C9: =IF(B9<>"",RANK(B9,$B$3:$B$11,1),"") -> 1 | D9: 0.0027914352 | E9: =IF(D9<>"",RANK(D9,$D$3:$D$11,1),"") -> 1 | F9: 0.0030497685 | G9: =IF(F9<>"",RANK(F9,$F$3:$F$11,1),"") -> 1 | H9: 0.0010648148 | I9: =IF(H9<>"",RANK(H9,$H$3:$H$11,1),"") -> 1 | J9: 0.0016550926 | K9: =IF(J9<>"",RANK(J9,$J$3:$J$11,1),"") -> 2 | M9: =IF(L9<>"",RANK(L9,$L$3:$L$11,1),"") | N9: =SUM(C9,E9,G9,I9,K9,M9) -> 6 | O9: =IF(N9<>"",RANK(N9,$N$3:$N$11,1),"") -> 1 | P9: Osborne High School
A10: Paulding County High School | B10: 0.0074768519 | C10: =IF(B10<>"",RANK(B10,$B$3:$B$11,1),"") -> 7 | D10: 0.0044165509 | E10: =IF(D10<>"",RANK(D10,$D$3:$D$11,1),"") -> 8 | F10: 0.0047858796 | G10: =IF(F10<>"",RANK(F10,$F$3:$F$11,1),"") -> 4 | H10: 0.0027777778 | I10: =IF(H10<>"",RANK(H10,$H$3:$H$11,1),"") -> 6 | J10: 0.0023842593 | K10: =IF(J10<>"",RANK(J10,$J$3:$J$11,1),"") -> 7 | M10: =IF(L10<>"",RANK(L10,$L$3:$L$11,1),"") | N10: =SUM(C10,E10,G10,I10,K10,M10) -> 32 | O10: =IF(N10<>"",RANK(N10,$N$3:$N$11,1),"") -> 7 | P10: Paulding County High School
A11: Riverwood High School | B11: 0.0078009259 | C11: =IF(B11<>"",RANK(B11,$B$3:$B$11,1),"") -> 8 | D11: 0.0043052083 | E11: =IF(D11<>"",RANK(D11,$D$3:$D$11,1),"") -> 7 | F11: 0.0052199074 | G11: =IF(F11<>"",RANK(F11,$F$3:$F$11,1),"") -> 6 | H11: 0.0039236111 | I11: =IF(H11<>"",RANK(H11,$H$3:$H$11,1),"") -> 8 | J11: 0.0033449074 | K11: =IF(J11<>"",RANK(J11,$J$3:$J$11,1),"") -> 9 | M11: =IF(L11<>"",RANK(L11,$L$3:$L$11,1),"") | N11: =SUM(C11,E11,G11,I11,K11,M11) -> 38 | O11: =IF(N11<>"",RANK(N11,$N$3:$N$11,1),"") -> 8 | P11: Riverwood High School
A13: Penalty Added
A14: Did Not Participate
A15: TIE BREAKER TEAM RUN

Sheet Results
A1: RESULTS
A2: FEMALE | C2: MIXED | E2: MALE
A3: =Female!$B2 -> Team Run | C3: =Female!$B2 -> Team Run | E3: =Female!$B2 -> Team Run
A4: 3 | C4: 3 | E4: 3
A5: 2 | C5: 2 | E5: 2
A6: 1 | C6: 1 | E6: 1
A8: =Female!$F2 -> RFC | C8: =Female!$F2 -> RFC | E8: =Female!$F2 -> RFC
A9: 3 | C9: 3 | E9: 3
A10: 2 | C10: 2 | E10: 2
A11: 1 | C11: 1 | E11: 1
A13: =Female!$L2 -> -NA- | C13: =Female!$L2 -> -NA- | E13: =Female!$L2 -> -NA-
A14: 3 | B14: =VLOOKUP(A14,Female!M:P,4,FALSE) -> #N/A | C14: 3 | D14: =VLOOKUP(C14,Mixed!M:P,4,FALSE) -> #N/A | E14: 3 | F14: =VLOOKUP(E14,Male!M:P,4,FALSE) -> #N/A
A15: 2 | B15: =VLOOKUP(A15,Female!M:P,4,FALSE) -> #N/A | C15: 2 | D15: =VLOOKUP(C15,Mixed!M:P,4,FALSE) -> #N/A | E15: 2 | F15: =VLOOKUP(E15,Male!M:P,4,FALSE) -> #N/A
A16: 1 | B16: =VLOOKUP(A16,Female!M:P,4,FALSE) -> #N/A | C16: 1 | D16: =VLOOKUP(C16,Mixed!M:P,4,FALSE) -> #N/A | E16: 1 | F16: =VLOOKUP(E16,Male!M:P,4,FALSE) -> #N/A
A18: =Female!$D2 -> C C R | C18: =Female!$D2 -> C C R | E18: =Female!$D2 -> C C R
A19: 3 | C19: 3 | E19: 3
A20: 2 | C20: 2 | E20: 2
A21: 1 | C21: 1 | E21: 1
A23: =Female!$H2 -> Rope Bridge | C23: =Female!$H2 -> Rope Bridge | E23: =Female!$H2 -> Rope Bridge
A24: 3 | C24: 3 | E24: 3
A25: 2 | C25: 2 | E25: 2
A26: 1 | C26: 1 | E26: 1
A28: =Female!$J2 -> Tire Flip | C28: =Female!$J2 -> Tire Flip | E28: =Female!$J2 -> Tire Flip
A29: 3 | C29: 3 | E29: 3
A30: 2 | C30: 2 | E30: 2
A31: 1 | C31: 1 | E31: 1
A32: OVERALL
A34: FEMALE | C34: MIXED | E34: MALE
C38: 3 | D38: Paulding County 1 High School

Sheet Helper
A1: Notes
A2: Adds | B2: To add a team, in the School column, type over a cell with EMPTY#, or add to the next blank cell. Consider this a new row.
A4: Deletes | B4: To remove a team, like EMPTY1, just delete the text in the School column, cell A.
B5: Next delete the text from cell N (column Total Points). This will null cell O (Overall Finish) and prevent the row from being included in the Results sheet Overall results.
B6: To exclude empty rows from the Results tab Overall results, delete values cell N (Total Points).
A8: Undo | B8: If you accidently type in the wrong cell, press the esc key, or undo your changes Edit > Undo Typing
A9: Time Entry | B9: When entering times, include the delimiters ":" and "." in your entries (ex: 01:19.25)
A10: Time Format | B10: Cell formatting: select cell > right-mouse click > choose Format Cells > Number tab > Category: Custom > Type: mm:ss.00
C11: Cell formatting for times <= 23:59, format as hh:mm:ss
C12: Cell formatting for times > 23:59, format as [h]:mm:ss
C13: To track hundredths of seconds, append .00 (ex: mm:ss.00)
B15: A mouse double-click will reset formatting to include a date. Don't panic and reset cell format using above steps
A17: RANK formula explained | B17: source: https://exceljet.net/excel-functions/excel-rank-function
B18: You can use the RANK function to rank numeric values. RANK has two modes of operation: ranking values so that the largest value is ranked #1 (order = 0), and ranking values so that the smallest value is #1 (order = 1).
B19: =RANK(C2,Team Relay,1) -or- =RANK(C2,$B$2:$B$24,1) [where "Team Relay" is a Named Range]
A22: Column:Row formula | B22: C:2 | C22: =IF(B2<>"",RANK(B2,$B$2:$B$24,1),"") | E22: Populate cell C:2 with results from: If B2 is null then display null, otherwise, check B2 in relation to B2 thru B24 and order it where lower value is better.
B23: C:3 | C23: =IF(B3<>"",RANK(B3,$B$2:$B$24,1),"")
B24: C:4 | C24: =IF(B4<>"",RANK(B4,$B$2:$B$24,1),"")
B25: . . .
B26: K:2 | C26: =IF(J2<>"",RANK(J2,$J$2:$J$24,1),"")
B27: K:3 | C27: =IF(J3<>"",RANK(J3,$J$2:$J$24,1),"")
B28: K:4 | C28: =IF(J4<>"",RANK(J4,$J$2:$J$24,1),"")
A30: VLOOKUP formula explained | B30: source: https://exceljet.net/excel-functions/excel-vlookup-function
A31: Female sheet | B31: VLOOKUP is an Excel function to lookup and retrieve data from a specific column in table. VLOOKUP supports approximate and exact matching, and wildcards (* ?) for partial matches.
B32: The "V" stands for "vertical". Lookup values must appear in the first column of the table, with lookup columns to the right.
B34: Syntax
C35: =VLOOKUP (value, table, col_index, [range_lookup])
B36: Arguments
C37: value - The value to look for in the first column of a table.
C38: table - The table from which to retrieve a value.
C39: col_index - The column in the table from which to retrieve a value.
C40: range_lookup - [optional] TRUE = approximate match (default). FALSE = exact match.
B42: =VLOOKUP(A36,Female!O:P,2,FALSE)
B43: =VLOOKUP (value, table, col_index, [range_lookup])
B44: Above, look for value (in cell A36 (value = 1)), from table (Sheet = Female, columns O thru P), exactly matching value in cell A36, and return col_index 2 (name for column P, the School)
C45: In this example, cell A36 is the number 1, so get me the School who had the Overall Finish of 1.
C46: The table is Female, specifically columns O and P, "Overall Finish" and "School Name"
C47: col_index is 2, the 2nd column from the table Female!O:P, or P, the School Name
C48: [range_lookup] is FALSE, for an exact match
A53: TesterRow - Info Only | B53: 1.3625 | D53: 1.0944444 | F53: 0.9 | J53: 1.75 | L53: 0.23125
