Workbook
Name Team_Relay: Female!$B$3:$B$26

Sheet Male
A2: SCHOOL | B2: Team Run | C2: Place | D2: C C R | E2: Place | F2: RFC | G2: Place | H2: Rope Bridge | I2: Place | J2: Tire Flip | K2: Place | L2: -NA- | M2: Place | N2: Total Points | O2: Overall Finish | P2: SCHOOL | Q2: Group
A3: ADAIRSVILLE 1 | C3: =IF(B3<>"",RANK(B3,$B$3:$B$25,1),"") | D3: 0.0023784722 | E3: =IF(D3<>"",RANK(D3,$D$3:$D$25,1),"") -> 1 | F3: 0.0011226852 | G3: =IF(F3<>"",RANK(F3,$F$3:$F$25,1),"") -> 5 | H3: 0.00090497685 | I3: =IF(H3<>"",RANK(H3,$H$3:$H$25,1),"") -> 3 | J3: 0.0010734954 | K3: =IF(J3<>"",RANK(J3,$J$3:$J$25,1),"") -> 6 | L3: 0.041655093 | M3: =IF(L3<>"",RANK(L3,$L$3:$L$25,1),"") -> 1 | N3: =SUM(C3,E3,G3,I3,K3,M3) -> 16 | O3: =IF(N3<>"",RANK(N3,$N$3:$N$25,1),"") -> 5 | P3: ADAIRSVILLE 1
A4: ADAIRSVILLE 2 | C4: =IF(B4<>"",RANK(B4,$B$3:$B$25,1),"") | D4: 0.0034631944 | E4: =IF(D4<>"",RANK(D4,$D$3:$D$25,1),"") -> 9 | F4: 0.0012731481 | G4: =IF(F4<>"",RANK(F4,$F$3:$F$25,1),"") -> 12 | H4: 0.0013335648 | I4: =IF(H4<>"",RANK(H4,$H$3:$H$25,1),"") -> 9 | J4: 0.0052314815 | K4: =IF(J4<>"",RANK(J4,$J$3:$J$25,1),"") -> 17 | L4: 0.041655093 | M4: =IF(L4<>"",RANK(L4,$L$3:$L$25,1),"") -> 1 | N4: =SUM(C4,E4,G4,I4,K4,M4) -> 48 | O4: =IF(N4<>"",RANK(N4,$N$3:$N$25,1),"") -> 10 | P4: ADAIRSVILLE 2
A5: ALEXANDER | C5: =IF(B5<>"",RANK(B5,$B$3:$B$25,1),"") | D5: 0.0041788194 | E5: =IF(D5<>"",RANK(D5,$D$3:$D$25,1),"") -> 15 | F5: 0.001400463 | G5: =IF(F5<>"",RANK(F5,$F$3:$F$25,1),"") -> 13 | H5: 0.041655093 | I5: =IF(H5<>"",RANK(H5,$H$3:$H$25,1),"") -> 17 | J5: 0.0013461806 | K5: =IF(J5<>"",RANK(J5,$J$3:$J$25,1),"") -> 11 | L5: 0.041655093 | M5: =IF(L5<>"",RANK(L5,$L$3:$L$25,1),"") -> 1 | N5: =SUM(C5,E5,G5,I5,K5,M5) -> 57 | O5: =IF(N5<>"",RANK(N5,$N$3:$N$25,1),"") -> 16 | P5: ALEXANDER
A6: CAMPBELL | C6: =IF(B6<>"",RANK(B6,$B$3:$B$25,1),"") | D6: 0.0028016204 | E6: =IF(D6<>"",RANK(D6,$D$3:$D$25,1),"") -> 6 | F6: 0.0011342593 | G6: =IF(F6<>"",RANK(F6,$F$3:$F$25,1),"") -> 6 | H6: 0.0012518519 | I6: =IF(H6<>"",RANK(H6,$H$3:$H$25,1),"") -> 8 | J6: 0.00095960648 | K6: =IF(J6<>"",RANK(J6,$J$3:$J$25,1),"") -> 3 | L6: 0.041655093 | M6: =IF(L6<>"",RANK(L6,$L$3:$L$25,1),"") -> 1 | N6: =SUM(C6,E6,G6,I6,K6,M6) -> 24 | O6: =IF(N6<>"",RANK(N6,$N$3:$N$25,1),"") -> 6 | P6: CAMPBELL
A7: CAROLLTON | C7: =IF(B7<>"",RANK(B7,$B$3:$B$25,1),"") | D7: 0.003512037 | E7: =IF(D7<>"",RANK(D7,$D$3:$D$25,1),"") -> 10 | F7: 0.0021990741 | G7: =IF(F7<>"",RANK(F7,$F$3:$F$25,1),"") -> 16 | H7: 0.00191875 | I7: =IF(H7<>"",RANK(H7,$H$3:$H$25,1),"") -> 10 | J7: 0.0013342593 | K7: =IF(J7<>"",RANK(J7,$J$3:$J$25,1),"") -> 10 | L7: 0.041655093 | M7: =IF(L7<>"",RANK(L7,$L$3:$L$25,1),"") -> 1 | N7: =SUM(C7,E7,G7,I7,K7,M7) -> 47 | O7: =IF(N7<>"",RANK(N7,$N$3:$N$25,1),"") -> 9 | P7: CAROLLTON
A8: CHEROKEE | C8: =IF(B8<>"",RANK(B8,$B$3:$B$25,1),"") | D8: 0.0034292824 | E8: =IF(D8<>"",RANK(D8,$D$3:$D$25,1),"") -> 8 | F8: 0.0012037037 | G8: =IF(F8<>"",RANK(F8,$F$3:$F$25,1),"") -> 9 | H8: 0.0011541667 | I8: =IF(H8<>"",RANK(H8,$H$3:$H$25,1),"") -> 7 | J8: 0.0011574074 | K8: =IF(J8<>"",RANK(J8,$J$3:$J$25,1),"") -> 7 | L8: 0.041655093 | M8: =IF(L8<>"",RANK(L8,$L$3:$L$25,1),"") -> 1 | N8: =SUM(C8,E8,G8,I8,K8,M8) -> 32 | O8: =IF(N8<>"",RANK(N8,$N$3:$N$25,1),"") -> 8 | P8: CHEROKEE
A9: CREEKVIEW | C9: =IF(B9<>"",RANK(B9,$B$3:$B$25,1),"") | D9: 0.0041724537 | E9: =IF(D9<>"",RANK(D9,$D$3:$D$25,1),"") -> 14 | F9: 0.0017362269 | G9: =IF(F17<>"",RANK(F17,$F$3:$F$25,1),"") -> 7 | H9: 0.0043930556 | I9: =IF(H9<>"",RANK(H9,$H$3:$H$25,1),"") -> 16 | J9: 0.0017570602 | K9: =IF(J9<>"",RANK(J9,$J$3:$J$25,1),"") -> 15 | L9: 0.041655093 | M9: =IF(L9<>"",RANK(L9,$L$3:$L$25,1),"") -> 1 | N9: =SUM(C9,E9,G9,I9,K9,M9) -> 53 | O9: =IF(N9<>"",RANK(N9,$N$3:$N$25,1),"") -> 14 | P9: CREEKVIEW
A10: EAST PAULDING | C10: =IF(B10<>"",RANK(B10,$B$3:$B$25,1),"") | D10: 0.041655093 | E10: =IF(D10<>"",RANK(D10,$D$3:$D$25,1),"") -> 18 | F10: 0.041655093 | G10: =IF(F10<>"",RANK(F10,$F$3:$F$25,1),"") -> 18 | H10: 0.041655093 | I10: =IF(H10<>"",RANK(H10,$H$3:$H$25,1),"") -> 17 | J10: 0.041655093 | K10: =IF(J10<>"",RANK(J10,$J$3:$J$25,1),"") -> 18 | L10: 0.041655093 | M10: =IF(L10<>"",RANK(L10,$L$3:$L$25,1),"") -> 1 | N10: =SUM(C10,E10,G10,I10,K10,M10) -> 72 | O10: =IF(N10<>"",RANK(N10,$N$3:$N$25,1),"") -> 18 | P10: EAST PAULDING
A11: ETOWAH 1 | C11: =IF(B11<>"",RANK(B11,$B$3:$B$25,1),"") | D11: 0.0024710648 | E11: =IF(D11<>"",RANK(D11,$D$3:$D$25,1),"") -> 3 | F11: 0.0010069444 | G11: =IF(F11<>"",RANK(F11,$F$3:$F$25,1),"") -> 2 | H11: 0.00069259259 | I11: =IF(H11<>"",RANK(H11,$H$3:$H$25,1),"") -> 1 | J11: 0.00093715278 | K11: =IF(J11<>"",RANK(J11,$J$3:$J$25,1),"") -> 2 | L11: 0.041655093 | M11: =IF(L11<>"",RANK(L11,$L$3:$L$25,1),"") -> 1 | N11: =SUM(C11,E11,G11,I11,K11,M11) -> 9 | O11: =IF(N11<>"",RANK(N11,$N$3:$N$25,1),"") -> 1 | P11: ETOWAH 1
A12: ETOWAH 2 | C12: =IF(B12<>"",RANK(B12,$B$3:$B$25,1),"") | D12: 0.0028916667 | E12: =IF(D12<>"",RANK(D12,$D$3:$D$25,1),"") -> 7 | F12: 0.0011574074 | G12: =IF(F12<>"",RANK(F12,$F$3:$F$25,1),"") -> 8 | H12: 0.0010797454 | I12: =IF(H12<>"",RANK(H12,$H$3:$H$25,1),"") -> 6 | J12: 0.0011766204 | K12: =IF(J12<>"",RANK(J12,$J$3:$J$25,1),"") -> 9 | L12: 0.041655093 | M12: =IF(L12<>"",RANK(L12,$L$3:$L$25,1),"") -> 1 | N12: =SUM(C12,E12,G12,I12,K12,M12) -> 31 | O12: =IF(N12<>"",RANK(N12,$N$3:$N$25,1),"") -> 7 | P12: ETOWAH 2
A13: NEW MANCHESTER | C13: =IF(B13<>"",RANK(B13,$B$3:$B$25,1),"") | D13: 0.0038266204 | E13: =IF(D13<>"",RANK(D13,$D$3:$D$25,1),"") -> 11 | F13: 0.0012152778 | G13: =IF(F13<>"",RANK(F13,$F$3:$F$25,1),"") -> 10 | H13: 0.0024138889 | I13: =IF(H13<>"",RANK(H13,$H$3:$H$25,1),"") -> 13 | J13: 0.0015697917 | K13: =IF(J13<>"",RANK(J13,$J$3:$J$25,1),"") -> 13 | L13: 0.041655093 | M13: =IF(L13<>"",RANK(L13,$L$3:$L$25,1),"") -> 1 | N13: =SUM(C13,E13,G13,I13,K13,M13) -> 48 | O13: =IF(N13<>"",RANK(N13,$N$3:$N$25,1),"") -> 10 | P13: NEW MANCHESTER
A14: NORTH PAULDING | C14: =IF(B14<>"",RANK(B14,$B$3:$B$25,1),"") | D14: 0.0027430556 | E14: =IF(D14<>"",RANK(D14,$D$3:$D$25,1),"") -> 5 | F14: 0.0010185185 | G14: =IF(F14<>"",RANK(F14,$F$3:$F$25,1),"") -> 4 | H14: 0.00090717593 | I14: =IF(H14<>"",RANK(H14,$H$3:$H$25,1),"") -> 4 | J14: 0.00089444444 | K14: =IF(J14<>"",RANK(J14,$J$3:$J$25,1),"") -> 1 | L14: 0.041655093 | M14: =IF(L14<>"",RANK(L14,$L$3:$L$25,1),"") -> 1 | N14: =SUM(C14,E14,G14,I14,K14,M14) -> 15 | O14: =IF(N14<>"",RANK(N14,$N$3:$N$25,1),"") -> 4 | P14: NORTH PAULDING
A15: OSBORNE | C15: =IF(B15<>"",RANK(B15,$B$3:$B$25,1),"") | D15: 0.0024027778 | E15: =IF(D15<>"",RANK(D15,$D$3:$D$25,1),"") -> 2 | F15: 0.0009837963 | G15: =IF(F15<>"",RANK(F15,$F$3:$F$25,1),"") -> 1 | H15: 0.0010033565 | I15: =IF(H15<>"",RANK(H15,$H$3:$H$25,1),"") -> 5 | J15: 0.00096030093 | K15: =IF(J15<>"",RANK(J15,$J$3:$J$25,1),"") -> 4 | L15: 0.041655093 | M15: =IF(L15<>"",RANK(L15,$L$3:$L$25,1),"") -> 1 | N15: =SUM(C15,E15,G15,I15,K15,M15) -> 13 | O15: =IF(N15<>"",RANK(N15,$N$3:$N$25,1),"") -> 2 | P15: OSBORNE
A16: PAULDING COUNTY | C16: =IF(B16<>"",RANK(B16,$B$3:$B$25,1),"") | D16: 0.0040398148 | E16: =IF(D16<>"",RANK(D16,$D$3:$D$25,1),"") -> 13 | F16: 0.004224537 | G16: =IF(F16<>"",RANK(F16,$F$3:$F$25,1),"") -> 17 | H16: 0.0021806713 | I16: =IF(H16<>"",RANK(H16,$H$3:$H$25,1),"") -> 11 | J16: 0.0020174769 | K16: =IF(J16<>"",RANK(J16,$J$3:$J$25,1),"") -> 16 | L16: 0.041655093 | M16: =IF(L16<>"",RANK(L16,$L$3:$L$25,1),"") -> 1 | N16: =SUM(C16,E16,G16,I16,K16,M16) -> 58 | O16: =IF(N16<>"",RANK(N16,$N$3:$N$25,1),"") -> 17 | P16: PAULDING COUNTY
A17: DOUGLAS COUNTY | C17: =IF(B17<>"",RANK(B17,$B$3:$B$25,1),"") | D17: 0.0042405093 | E17: =IF(D17<>"",RANK(D17,$D$3:$D$25,1),"") -> 16 | F17: 0.0011458333 | G17: =IF(F17<>"",RANK(F17,$F$3:$F$25,1),"") -> 7 | H17: 0.0021900463 | I17: =IF(H17<>"",RANK(H17,$H$3:$H$25,1),"") -> 12 | J17: 0.0014123843 | K17: =IF(J17<>"",RANK(J17,$J$3:$J$25,1),"") -> 12 | L17: 0.041655093 | M17: =IF(L17<>"",RANK(L17,$L$3:$L$25,1),"") -> 1 | N17: =SUM(C17,E17,G17,I17,K17,M17) -> 48 | O17: =IF(N17<>"",RANK(N17,$N$3:$N$25,1),"") -> 10 | P17: DOUGLAS COUNTY
A18: PEBBLEBROOK | C18: =IF(B18<>"",RANK(B18,$B$3:$B$25,1),"") | D18: 0.0044144676 | E18: =IF(D18<>"",RANK(D18,$D$3:$D$25,1),"") -> 17 | F18: 0.0012384259 | G18: =IF(F18<>"",RANK(F18,$F$3:$F$25,1),"") -> 11 | H18: 0.0031462963 | I18: =IF(H18<>"",RANK(H18,$H$3:$H$25,1),"") -> 15 | J18: 0.0011607639 | K18: =IF(J18<>"",RANK(J18,$J$3:$J$25,1),"") -> 8 | L18: 0.041655093 | M18: =IF(L18<>"",RANK(L18,$L$3:$L$25,1),"") -> 1 | N18: =SUM(C18,E18,G18,I18,K18,M18) -> 52 | O18: =IF(N18<>"",RANK(N18,$N$3:$N$25,1),"") -> 13 | P18: PEBBLEBROOK
A19: VETERANS | C19: =IF(B19<>"",RANK(B19,$B$3:$B$25,1),"") | D19: 0.0027246528 | E19: =IF(D19<>"",RANK(D19,$D$3:$D$25,1),"") -> 4 | F19: 0.0010069444 | G19: =IF(F19<>"",RANK(F19,$F$3:$F$25,1),"") -> 2 | H19: 0.00073530093 | I19: =IF(H19<>"",RANK(H19,$H$3:$H$25,1),"") -> 2 | J19: 0.0010224537 | K19: =IF(J19<>"",RANK(J19,$J$3:$J$25,1),"") -> 5 | L19: 0.041655093 | M19: =IF(L19<>"",RANK(L19,$L$3:$L$25,1),"") -> 1 | N19: =SUM(C19,E19,G19,I19,K19,M19) -> 14 | O19: =IF(N19<>"",RANK(N19,$N$3:$N$25,1),"") -> 3 | P19: VETERANS
A20: HIRAM | C20: =IF(B20<>"",RANK(B20,$B$3:$B$25,1),"") | D20: 0.0040306713 | E20: =IF(D20<>"",RANK(D20,$D$3:$D$25,1),"") -> 12 | F20: 0.0015162037 | G20: =IF(F20<>"",RANK(F20,$F$3:$F$25,1),"") -> 14 | H20: 0.0024186343 | I20: =IF(H20<>"",RANK(H20,$H$3:$H$25,1),"") -> 14 | J20: 0.0016709491 | K20: =IF(J20<>"",RANK(J20,$J$3:$J$25,1),"") -> 14 | L20: 0.041655093 | M20: =IF(L20<>"",RANK(L20,$L$3:$L$25,1),"") -> 1 | N20: =SUM(C20,E20,G20,I20,K20,M20) -> 55 | O20: =IF(N20<>"",RANK(N20,$N$3:$N$25,1),"") -> 15 | P20: =IF(A22<>"",A22,"") -> EMPTY 4
A21: EMPTY 3 | B21: 0.041655093 | C21: =IF(B21<>"",RANK(B21,$B$3:$B$25,1),"") -> 1 | D21: 0.041655093 | E21: =IF(D21<>"",RANK(D21,$D$3:$D$25,1),"") -> 19 | F21: 0.041655093 | G21: =IF(F21<>"",RANK(F21,$F$3:$F$25,1),"") -> 19 | H21: 0.041655093 | I21: =IF(H21<>"",RANK(H21,$H$3:$H$25,1),"") -> 19 | J21: 0.041655093 | K21: =IF(J21<>"",RANK(J21,$J$3:$J$25,1),"") -> 19 | L21: 0.041655093 | M21: =IF(L21<>"",RANK(L21,$L$3:$L$25,1),"") -> 1 | N21: =SUM(C21,E21,G21,I21,K21,M21) -> 78 | O21: =IF(N21<>"",RANK(N21,$N$3:$N$25,1),"") -> 19 | P21: =IF(A23<>"",A23,"") -> EMPTY 5
A22: EMPTY 4 | B22: 0.041655093 | C22: =IF(B22<>"",RANK(B22,$B$3:$B$25,1),"") -> 1 | D22: 0.041655093 | E22: =IF(D22<>"",RANK(D22,$D$3:$D$25,1),"") -> 19 | F22: 0.041655093 | G22: =IF(F22<>"",RANK(F22,$F$3:$F$25,1),"") -> 19 | H22: 0.041655093 | I22: =IF(H22<>"",RANK(H22,$H$3:$H$25,1),"") -> 19 | J22: 0.041655093 | K22: =IF(J22<>"",RANK(J22,$J$3:$J$25,1),"") -> 19 | L22: 0.041655093 | M22: =IF(L22<>"",RANK(L22,$L$3:$L$25,1),"") -> 1 | N22: =SUM(C22,E22,G22,I22,K22,M22) -> 78 | O22: =IF(N22<>"",RANK(N22,$N$3:$N$25,1),"") -> 19 | P22: =IF(#REF!<>"",#REF!,"") -> #REF!
A23: EMPTY 5 | B23: 0.041655093 | C23: =IF(B23<>"",RANK(B23,$B$3:$B$25,1),"") -> 1 | D23: 0.041655093 | E23: =IF(D23<>"",RANK(D23,$D$3:$D$25,1),"") -> 19 | F23: 0.041655093 | G23: =IF(F23<>"",RANK(F23,$F$3:$F$25,1),"") -> 19 | H23: 0.041655093 | I23: =IF(H23<>"",RANK(H23,$H$3:$H$25,1),"") -> 19 | J23: 0.041655093 | K23: =IF(J23<>"",RANK(J23,$J$3:$J$25,1),"") -> 19 | L23: 0.041655093 | M23: =IF(L23<>"",RANK(L23,$L$3:$L$25,1),"") -> 1 | N23: =SUM(C23,E23,G23,I23,K23,M23) -> 78 | O23: =IF(N23<>"",RANK(N23,$N$3:$N$25,1),"") -> 19 | P23: =IF(#REF!<>"",#REF!,"") -> #REF!
A24: EMPTY 6 | B24: 0.041655093 | C24: =IF(B24<>"",RANK(B24,$B$3:$B$25,1),"") -> 1 | D24: 0.041655093 | E24: =IF(D24<>"",RANK(D24,$D$3:$D$25,1),"") -> 19 | F24: 0.041655093 | G24: =IF(F24<>"",RANK(F24,$F$3:$F$25,1),"") -> 19 | H24: 0.041655093 | I24: =IF(H24<>"",RANK(H24,$H$3:$H$25,1),"") -> 19 | J24: 0.041655093 | K24: =IF(J24<>"",RANK(J24,$J$3:$J$25,1),"") -> 19 | L24: 0.041655093 | M24: =IF(L24<>"",RANK(L24,$L$3:$L$25,1),"") -> 1 | N24: =SUM(C24,E24,G24,I24,K24,M24) -> 78 | O24: =IF(N24<>"",RANK(N24,$N$3:$N$25,1),"") -> 19 | P24: =IF(A24<>"",A24,"") -> EMPTY 6 | S24: 0.0008193287
A25: EMPTY 7 | B25: 0.041655093 | C25: =IF(B25<>"",RANK(B25,$B$3:$B$25,1),"") -> 1 | D25: 0.041655093 | E25: =IF(D25<>"",RANK(D25,$D$3:$D$25,1),"") -> 19 | F25: 0.041655093 | G25: =IF(F25<>"",RANK(F25,$F$3:$F$25,1),"") -> 19 | H25: 0.041655093 | I25: =IF(H25<>"",RANK(H25,$H$3:$H$25,1),"") -> 19 | J25: 0.041655093 | K25: =IF(J25<>"",RANK(J25,$J$3:$J$25,1),"") -> 19 | L25: 0.041655093 | M25: =IF(L25<>"",RANK(L25,$L$3:$L$25,1),"") -> 1 | N25: =SUM(C25,E25,G25,I25,K25,M25) -> 78 | O25: =IF(N25<>"",RANK(N25,$N$3:$N$25,1),"") -> 19 | P25: =IF(A25<>"",A25,"") -> EMPTY 7 | S25: 0.041655093
A26: Disqualified
A27: Penalty Added
A28: Did Not Participate
A29: TIE BREAKER TEAM RUN
F30: FINAL 17SEP
A31: HARALSON | D31: 0.0047644676

Sheet Mixed
A2: SCHOOL | B2: Team Run | C2: Place | D2: C C R | E2: Place | F2: RFC | G2: Place | H2: Rope Bridge | I2: Place | J2: Tire Flip | K2: Place | L2: -NA- | M2: Place | N2: Total Points | O2: Overall Finish | P2: SCHOOL | Q2: Group
A3: ADAIRSVILLE 1 | C3: =IF(B3<>"",RANK(B3,$B$3:$B$25,1),"") | D3: 0.0031655093 | E3: =IF(D3<>"",RANK(D3,$D$3:$D$25,1),"") -> 2 | F3: 0.0011574074 | G3: =IF(F3<>"",RANK(F3,$F$3:$F$25,1),"") -> 1 | H3: 0.00084560185 | I3: =IF(H3<>"",RANK(H3,$H$3:$H$25,1),"") -> 1 | J3: 0.0012159722 | K3: =IF(J3<>"",RANK(J3,$J$3:$J$25,1),"") -> 3 | M3: =IF(L3<>"",RANK(L3,$L$3:$L$25,1),"") | N3: =SUM(C3,E3,G3,I3,K3,M3) -> 7 | O3: =IF(N3<>"",RANK(N3,$N$3:$N$25,1),"") -> 1 | P3: =IF(A3<>"",A3,"") -> ADAIRSVILLE 1
A4: ADAIRSVILLE 2 | C4: =IF(B4<>"",RANK(B4,$B$3:$B$25,1),"") | D4: 0.0034383102 | E4: =IF(D4<>"",RANK(D4,$D$3:$D$25,1),"") -> 4 | F4: 0.0016550926 | G4: =IF(F4<>"",RANK(F4,$F$3:$F$25,1),"") -> 19 | H4: 0.0010037037 | I4: =IF(H4<>"",RANK(H4,$H$3:$H$25,1),"") -> 4 | J4: 0.0016804398 | K4: =IF(J4<>"",RANK(J4,$J$3:$J$25,1),"") -> 13 | M4: =IF(L4<>"",RANK(L4,$L$3:$L$25,1),"") | N4: =SUM(C4,E4,G4,I4,K4,M4) -> 40 | O4: =IF(N4<>"",RANK(N4,$N$3:$N$25,1),"") -> 9 | P4: =IF(A4<>"",A4,"") -> ADAIRSVILLE 2
A5: ALEXANDER | C5: =IF(B5<>"",RANK(B5,$B$3:$B$25,1),"") | D5: 0.0038042824 | E5: =IF(D5<>"",RANK(D5,$D$3:$D$25,1),"") -> 8 | F5: 0.00125 | G5: =IF(F5<>"",RANK(F5,$F$3:$F$25,1),"") -> 7 | H5: 0.00115625 | I5: =IF(H5<>"",RANK(H5,$H$3:$H$25,1),"") -> 7 | J5: 0.0017740741 | K5: =IF(J5<>"",RANK(J5,$J$3:$J$25,1),"") -> 17 | N5: =SUM(C5,E5,G5,I5,K5,M5) -> 39 | O5: =IF(N5<>"",RANK(N5,$N$3:$N$25,1),"") -> 8 | P5: =IF(A5<>"",A5,"") -> ALEXANDER
A6: CENTRAL | C6: =IF(B6<>"",RANK(B6,$B$3:$B$25,1),"") | D6: 0.0044903935 | E6: =IF(D6<>"",RANK(D6,$D$3:$D$25,1),"") -> 16 | F6: 0.0015277778 | G6: =IF(F6<>"",RANK(F6,$F$3:$F$25,1),"") -> 17 | H6: 0.0014959491 | I6: =IF(H6<>"",RANK(H6,$H$3:$H$25,1),"") -> 10 | J6: 0.0017277778 | K6: =IF(J6<>"",RANK(J6,$J$3:$J$25,1),"") -> 15 | M6: =IF(L6<>"",RANK(L6,$L$3:$L$25,1),"") | N6: =SUM(C6,E6,G6,I6,K6,M6) -> 58 | O6: =IF(N6<>"",RANK(N6,$N$3:$N$25,1),"") -> 15 | P6: =IF(A6<>"",A6,"") -> CENTRAL
A7: CREEKVIEW | C7: =IF(B7<>"",RANK(B7,$B$3:$B$25,1),"") | D7: 0.0046043981 | E7: =IF(D7<>"",RANK(D7,$D$3:$D$25,1),"") -> 18 | F7: 0.0023726852 | G7: =IF(F7<>"",RANK(F7,$F$3:$F$25,1),"") -> 22 | H7: 0.006490162 | I7: =IF(H7<>"",RANK(H7,$H$3:$H$25,1),"") -> 21 | J7: 0.0019527778 | K7: =IF(J7<>"",RANK(J7,$J$3:$J$25,1),"") -> 19 | M7: =IF(L7<>"",RANK(L7,$L$3:$L$25,1),"") | N7: =SUM(C7,E7,G7,I7,K7,M7) -> 80 | O7: =IF(N7<>"",RANK(N7,$N$3:$N$25,1),"") -> 22 | P7: =IF(A7<>"",A7,"") -> CREEKVIEW
A8: ETOWAH | C8: =IF(B8<>"",RANK(B8,$B$3:$B$25,1),"") | D8: 0.0045547454 | E8: =IF(D8<>"",RANK(D8,$D$3:$D$25,1),"") -> 17 | F8: 0.0013310185 | G8: =IF(F8<>"",RANK(F8,$F$3:$F$25,1),"") -> 11 | H8: 0.0021267361 | I8: =IF(H8<>"",RANK(H8,$H$3:$H$25,1),"") -> 15 | J8: 0.0021393519 | K8: =IF(J8<>"",RANK(J8,$J$3:$J$25,1),"") -> 20 | M8: =IF(L8<>"",RANK(L8,$L$3:$L$25,1),"") | N8: =SUM(C8,E8,G8,I8,K8,M8) -> 63 | O8: =IF(N8<>"",RANK(N8,$N$3:$N$25,1),"") -> 17 | P8: =IF(A8<>"",A8,"") -> ETOWAH
A9: FAYETTE COUNTY | C9: =IF(B9<>"",RANK(B9,$B$3:$B$25,1),"") | D9: 0.0040625 | E9: =IF(D9<>"",RANK(D9,$D$3:$D$25,1),"") -> 13 | F9: 0.0017824074 | G9: =IF(F9<>"",RANK(F9,$F$3:$F$25,1),"") -> 20 | H9: 0.0028356481 | I9: =IF(H9<>"",RANK(H9,$H$3:$H$25,1),"") -> 19 | J9: 0.0017466435 | K9: =IF(J9<>"",RANK(J9,$J$3:$J$25,1),"") -> 16 | N9: =SUM(C9,E9,G9,I9,K9,M9) -> 68 | O9: =IF(N9<>"",RANK(N9,$N$3:$N$25,1),"") -> 19 | P9: =IF(A9<>"",A9,"") -> FAYETTE COUNTY
A10: GMC PREP 1 | C10: =IF(B10<>"",RANK(B10,$B$3:$B$25,1),"") | D10: 0.0028599537 | E10: =IF(D10<>"",RANK(D10,$D$3:$D$25,1),"") -> 1 | F10: 0.0011921296 | G10: =IF(F10<>"",RANK(F10,$F$3:$F$25,1),"") -> 2 | H10: 0.0010086806 | I10: =IF(H10<>"",RANK(H10,$H$3:$H$25,1),"") -> 5 | J10: 0.0012804398 | K10: =IF(J10<>"",RANK(J10,$J$3:$J$25,1),"") -> 7 | M10: =IF(L10<>"",RANK(L10,$L$3:$L$25,1),"") | N10: =SUM(C10,E10,G10,I10,K10,M10) -> 15 | O10: =IF(N10<>"",RANK(N10,$N$3:$N$25,1),"") -> 3 | P10: =IF(A10<>"",A10,"") -> GMC PREP 1
A11: GMC PREP 2 | C11: =IF(B11<>"",RANK(B11,$B$3:$B$25,1),"") | D11: 0.0034513889 | E11: =IF(D11<>"",RANK(D11,$D$3:$D$25,1),"") -> 5 | F11: 0.0013773148 | G11: =IF(F11<>"",RANK(F11,$F$3:$F$25,1),"") -> 13 | H11: 0.0016309028 | I11: =IF(H11<>"",RANK(H11,$H$3:$H$25,1),"") -> 11 | J11: 0.0019299769 | K11: =IF(J11<>"",RANK(J11,$J$3:$J$25,1),"") -> 18 | M11: =IF(L11<>"",RANK(L11,$L$3:$L$25,1),"") | N11: =SUM(C11,E11,G11,I11,K11,M11) -> 47 | O11: =IF(N11<>"",RANK(N11,$N$3:$N$25,1),"") -> 11 | P11: =IF(A11<>"",A11,"") -> GMC PREP 2
A12: CARROLTON | C12: =IF(B12<>"",RANK(B12,$B$3:$B$25,1),"") | D12: 0.0056173611 | E12: =IF(D12<>"",RANK(D12,$D$3:$D$25,1),"") -> 22 | F12: 0.0019328704 | G12: =IF(F12<>"",RANK(F12,$F$3:$F$25,1),"") -> 21 | H12: 0.0018993056 | I12: =IF(H12<>"",RANK(H12,$H$3:$H$25,1),"") -> 13 | J12: 0.0024739583 | K12: =IF(J12<>"",RANK(J12,$J$3:$J$25,1),"") -> 22 | N12: =SUM(C12,E12,G12,I12,K12,M12) -> 78 | O12: =IF(N12<>"",RANK(N12,$N$3:$N$25,1),"") -> 21 | P12: =IF(A12<>"",A12,"") -> CARROLTON
A13: LITHIA SPRINGS 1 | C13: =IF(B13<>"",RANK(B13,$B$3:$B$25,1),"") | D13: 0.0039496528 | E13: =IF(D13<>"",RANK(D13,$D$3:$D$25,1),"") -> 9 | F13: 0.001412037 | G13: =IF(F13<>"",RANK(F13,$F$3:$F$25,1),"") -> 15 | H13: 0.041655093 | I13: =IF(H13<>"",RANK(H13,$H$3:$H$25,1),"") -> 22 | J13: 0.0016511574 | K13: =IF(J13<>"",RANK(J13,$J$3:$J$25,1),"") -> 12 | M13: =IF(L13<>"",RANK(L13,$L$3:$L$25,1),"") | N13: =SUM(C13,E13,G13,I13,K13,M13) -> 58 | O13: =IF(N13<>"",RANK(N13,$N$3:$N$25,1),"") -> 15 | P13: =IF(A13<>"",A13,"") -> LITHIA SPRINGS 1
A14: EAST PAULDING 1 | C14: =IF(B14<>"",RANK(B14,$B$3:$B$25,1),"") | D14: 0.0039912037 | E14: =IF(D14<>"",RANK(D14,$D$3:$D$25,1),"") -> 10 | F14: 0.0012268519 | G14: =IF(F14<>"",RANK(F14,$F$3:$F$25,1),"") -> 5 | H14: 0.00085752315 | I14: =IF(H14<>"",RANK(H14,$H$3:$H$25,1),"") -> 2 | J14: 0.0012721065 | K14: =IF(J14<>"",RANK(J14,$J$3:$J$25,1),"") -> 6 | M14: =IF(L14<>"",RANK(L14,$L$3:$L$25,1),"") | N14: =SUM(C14,E14,G14,I14,K14,M14) -> 23 | O14: =IF(N14<>"",RANK(N14,$N$3:$N$25,1),"") -> 4 | P14: =IF(A14<>"",A14,"") -> EAST PAULDING 1
A15: EAST PAULDING 2 | C15: =IF(B15<>"",RANK(B15,$B$3:$B$25,1),"") | D15: 0.0055523148 | E15: =IF(D15<>"",RANK(D15,$D$3:$D$25,1),"") -> 21 | F15: 0.0015277778 | G15: =IF(F15<>"",RANK(F15,$F$3:$F$25,1),"") -> 17 | H15: 0.0011982639 | I15: =IF(H15<>"",RANK(H15,$H$3:$H$25,1),"") -> 9 | J15: 0.0022533565 | K15: =IF(J15<>"",RANK(J15,$J$3:$J$25,1),"") -> 21 | M15: =IF(L15<>"",RANK(L15,$L$3:$L$25,1),"") | N15: =SUM(C15,E15,G15,I15,K15,M15) -> 68 | O15: =IF(N15<>"",RANK(N15,$N$3:$N$25,1),"") -> 19 | P15: =IF(A15<>"",A15,"") -> EAST PAULDING 2
A16: MARIETTA 1 | C16: =IF(B16<>"",RANK(B16,$B$3:$B$25,1),"") | D16: 0.0042104167 | E16: =IF(D16<>"",RANK(D16,$D$3:$D$25,1),"") -> 14 | F16: 0.0013078704 | G16: =IF(F16<>"",RANK(F16,$F$3:$F$25,1),"") -> 10 | H16: 0.0029021991 | I16: =IF(H16<>"",RANK(H16,$H$3:$H$25,1),"") -> 20 | J16: 0.0012644676 | K16: =IF(J16<>"",RANK(J16,$J$3:$J$25,1),"") -> 5 | M16: =IF(L16<>"",RANK(L16,$L$3:$L$25,1),"") | N16: =SUM(C16,E16,G16,I16,K16,M16) -> 49 | O16: =IF(N16<>"",RANK(N16,$N$3:$N$25,1),"") -> 13 | P16: =IF(A16<>"",A16,"") -> MARIETTA 1
A17: MARIETTA 2 | C17: =IF(B17<>"",RANK(B17,$B$3:$B$25,1),"") | D17: 0.0042958333 | E17: =IF(D17<>"",RANK(D17,$D$3:$D$25,1),"") -> 15 | F17: 0.0013541667 | G17: =IF(F17<>"",RANK(F17,$F$3:$F$25,1),"") -> 12 | H17: 0.0024259259 | I17: =IF(H17<>"",RANK(H17,$H$3:$H$25,1),"") -> 17 | J17: 0.0011928241 | K17: =IF(J17<>"",RANK(J17,$J$3:$J$25,1),"") -> 2 | M17: =IF(L17<>"",RANK(L17,$L$3:$L$25,1),"") | N17: =SUM(C17,E17,G17,I17,K17,M17) -> 46 | O17: =IF(N17<>"",RANK(N17,$N$3:$N$25,1),"") -> 10 | P17: =IF(A17<>"",A17,"") -> MARIETTA 2
A18: NEW MANCHESTER | C18: =IF(B18<>"",RANK(B18,$B$3:$B$25,1),"") | D18: 0.041655093 | E18: =IF(D18<>"",RANK(D18,$D$3:$D$25,1),"") -> 23 | F18: 0.041655093 | G18: =IF(F18<>"",RANK(F18,$F$3:$F$25,1),"") -> 23 | H18: 0.041655093 | I18: =IF(H18<>"",RANK(H18,$H$3:$H$25,1),"") -> 22 | J18: 0.041655093 | K18: =IF(J18<>"",RANK(J18,$J$3:$J$25,1),"") -> 23 | M18: =IF(L18<>"",RANK(L18,$L$3:$L$25,1),"") | N18: =SUM(C18,E18,G18,I18,K18,M18) -> 91 | O18: =IF(N18<>"",RANK(N18,$N$3:$N$25,1),"") -> 23 | P18: =IF(A18<>"",A18,"") -> NEW MANCHESTER
A19: NORTH PAULDING 1 | C19: =IF(B19<>"",RANK(B19,$B$3:$B$25,1),"") | D19: 0.0033287037 | E19: =IF(D19<>"",RANK(D19,$D$3:$D$25,1),"") -> 3 | F19: 0.0011921296 | G19: =IF(F19<>"",RANK(F19,$F$3:$F$25,1),"") -> 2 | H19: 0.00094247685 | I19: =IF(H19<>"",RANK(H19,$H$3:$H$25,1),"") -> 3 | J19: 0.0011376157 | K19: =IF(J19<>"",RANK(J19,$J$3:$J$25,1),"") -> 1 | M19: =IF(L19<>"",RANK(L19,$L$3:$L$25,1),"") | N19: =SUM(C19,E19,G19,I19,K19,M19) -> 9 | O19: =IF(N19<>"",RANK(N19,$N$3:$N$25,1),"") -> 2 | P19: =IF(A19<>"",A19,"") -> NORTH PAULDING 1
A20: NORTH PAULDING 2 | C20: =IF(B20<>"",RANK(B20,$B$3:$B$25,1),"") | D20: 0.003734838 | E20: =IF(D20<>"",RANK(D20,$D$3:$D$25,1),"") -> 7 | F20: 0.0012615741 | G20: =IF(F20<>"",RANK(F20,$F$3:$F$25,1),"") -> 8 | H20: 0.001181713 | I20: =IF(H20<>"",RANK(H20,$H$3:$H$25,1),"") -> 8 | J20: 0.0012369213 | K20: =IF(J20<>"",RANK(J20,$J$3:$J$25,1),"") -> 4 | M20: =IF(L20<>"",RANK(L20,$L$3:$L$25,1),"") | N20: =SUM(C20,E20,G20,I20,K20,M20) -> 27 | O20: =IF(N20<>"",RANK(N20,$N$3:$N$25,1),"") -> 5 | P20: =IF(A20<>"",A20,"") -> NORTH PAULDING 2
A21: PAULDING COUNTY | C21: =IF(B21<>"",RANK(B21,$B$3:$B$25,1),"") | D21: 0.0040056713 | E21: =IF(D21<>"",RANK(D21,$D$3:$D$25,1),"") -> 11 | F21: 0.0012037037 | G21: =IF(F21<>"",RANK(F21,$F$3:$F$25,1),"") -> 4 | H21: 0.0010810185 | I21: =IF(H21<>"",RANK(H21,$H$3:$H$25,1),"") -> 6 | J21: 0.0015642361 | K21: =IF(J21<>"",RANK(J21,$J$3:$J$25,1),"") -> 11 | N21: =SUM(C21,E21,G21,I21,K21,M21) -> 32 | O21: =IF(N21<>"",RANK(N21,$N$3:$N$25,1),"") -> 6 | P21: =IF(A21<>"",A21,"") -> PAULDING COUNTY
A22: PEBBLEBROOK | C22: =IF(B22<>"",RANK(B22,$B$3:$B$25,1),"") | D22: 0.0047689815 | E22: =IF(D22<>"",RANK(D22,$D$3:$D$25,1),"") -> 19 | F22: 0.0012615741 | G22: =IF(F22<>"",RANK(F22,$F$3:$F$25,1),"") -> 8 | H22: 0.0024978009 | I22: =IF(H22<>"",RANK(H22,$H$3:$H$25,1),"") -> 18 | J22: 0.0013346065 | K22: =IF(J22<>"",RANK(J22,$J$3:$J$25,1),"") -> 9 | M22: =IF(L22<>"",RANK(L22,$L$3:$L$25,1),"") | N22: =SUM(C22,E22,G22,I22,K22,M22) -> 54 | O22: =IF(N22<>"",RANK(N22,$N$3:$N$25,1),"") -> 14 | P22: =IF(A22<>"",A22,"") -> PEBBLEBROOK
A23: SOUTH COBB 1 | C23: =IF(B23<>"",RANK(B23,$B$3:$B$25,1),"") | D23: 0.0036805556 | E23: =IF(D23<>"",RANK(D23,$D$3:$D$25,1),"") -> 6 | F23: 0.0012384259 | G23: =IF(F23<>"",RANK(F23,$F$3:$F$25,1),"") -> 6 | H23: 0.0019393519 | I23: =IF(H23<>"",RANK(H23,$H$3:$H$25,1),"") -> 14 | J23: 0.0013219907 | K23: =IF(J23<>"",RANK(J23,$J$3:$J$25,1),"") -> 8 | M23: =IF(L23<>"",RANK(L23,$L$3:$L$25,1),"") | N23: =SUM(C23,E23,G23,I23,K23,M23) -> 34 | O23: =IF(N23<>"",RANK(N23,$N$3:$N$25,1),"") -> 7 | P23: =IF(A23<>"",A23,"") -> SOUTH COBB 1
A24: SOUTH COBB 2 | C24: =IF(B24<>"",RANK(B24,$B$3:$B$25,1),"") | D24: 0.0047782407 | E24: =IF(D24<>"",RANK(D24,$D$3:$D$25,1),"") -> 20 | F24: 0.0014351852 | G24: =IF(F24<>"",RANK(F24,$F$3:$F$25,1),"") -> 16 | H24: 0.0024222222 | I24: =IF(H24<>"",RANK(H24,$H$3:$H$25,1),"") -> 16 | J24: 0.0017097222 | K24: =IF(J24<>"",RANK(J24,$J$3:$J$25,1),"") -> 14 | M24: =IF(L24<>"",RANK(L24,$L$3:$L$25,1),"") | N24: =SUM(C24,E24,G24,I24,K24,M24) -> 66 | O24: =IF(N24<>"",RANK(N24,$N$3:$N$25,1),"") -> 18 | P24: =IF(A24<>"",A24,"") -> SOUTH COBB 2
A25: SOUTH PAULDING | C25: =IF(B25<>"",RANK(B25,$B$3:$B$25,1),"") | D25: 0.0040081019 | E25: =IF(D25<>"",RANK(D25,$D$3:$D$25,1),"") -> 12 | F25: 0.0013888889 | G25: =IF(F25<>"",RANK(F25,$F$3:$F$25,1),"") -> 14 | H25: 0.0017318287 | I25: =IF(H25<>"",RANK(H25,$H$3:$H$25,1),"") -> 12 | J25: 0.0013725694 | K25: =IF(J25<>"",RANK(J25,$J$3:$J$25,1),"") -> 10 | M25: =IF(L25<>"",RANK(L25,$L$3:$L$25,1),"") | N25: =SUM(C25,E25,G25,I25,K25,M25) -> 48 | O25: =IF(N25<>"",RANK(N25,$N$3:$N$25,1),"") -> 12 | P25: =IF(A25<>"",A25,"") -> SOUTH PAULDING
A26: Disqualified
A27: Penalty Added
A28: Did Not Participate
A29: TIE BREAKER TEAM RUN
A32: HARALSON | F32: 0.0016898148 | H32: 0.0025018519 | J32: 0.0023611111

Sheet Female
A2: SCHOOL | B2: Team Run | C2: Place | D2: C C R | E2: Place | F2: RFC | G2: Place | H2: Rope Bridge | I2: Place | J2: Tire Flip | K2: Place | L2: -NA- | M2: Place | N2: Total Points | O2: Overall Finish | P2: SCHOOL | Q2: Group
A3: ALEXANDER | C3: =IF(B3<>"",RANK(B3,$B$3:$B$25,1),"") | D3: 0.041655093 | E3: =IF(D3<>"",RANK(D3,$D$3:$D$25,1),"") -> 10 | F3: 0.0020717593 | G3: =IF(F3<>"",RANK(F3,$F$3:$F$25,1),"") -> 10 | H3: 0.0016836806 | I3: =IF(H3<>"",RANK(H3,$H$3:$H$25,1),"") -> 7 | J3: 0.0015834491 | K3: =IF(J3<>"",RANK(J3,$J$3:$J$25,1),"") -> 10 | M3: =IF(L3<>"",RANK(L3,$L$3:$L$25,1),"") | N3: =SUM(C3,E3,G3,I3,K3,M3) -> 37 | O3: =IF(N3<>"",RANK(N3,$N$3:$N$25,1),"") -> 10 | P3: =IF(A3<>"",A3,"") -> ALEXANDER
A4: CAMPBELL | C4: =IF(B4<>"",RANK(B4,$B$3:$B$25,1),"") | D4: 0.0034291667 | E4: =IF(D4<>"",RANK(D4,$D$3:$D$25,1),"") -> 2 | F4: 0.0013078704 | G4: =IF(F4<>"",RANK(F4,$F$3:$F$25,1),"") -> 2 | H4: 0.0019640046 | I4: =IF(H4<>"",RANK(H4,$H$3:$H$25,1),"") -> 8 | J4: 0.00090891204 | K4: =IF(J4<>"",RANK(J4,$J$3:$J$25,1),"") -> 1 | M4: =IF(L4<>"",RANK(L4,$L$3:$L$25,1),"") | N4: =SUM(C4,E4,G4,I4,K4,M4) -> 13 | O4: =IF(N4<>"",RANK(N4,$N$3:$N$25,1),"") -> 3 | P4: =IF(A4<>"",A4,"") -> CAMPBELL
A5: CARROLLTON | C5: =IF(B5<>"",RANK(B5,$B$3:$B$25,1),"") | D5: 0.041655093 | E5: =IF(D5<>"",RANK(D5,$D$3:$D$25,1),"") -> 11 | F5: 0.041655093 | G5: =IF(F5<>"",RANK(F5,$F$3:$F$25,1),"") -> 11 | H5: 0.041655093 | I5: =IF(H5<>"",RANK(H5,$H$3:$H$25,1),"") -> 11 | J5: 0.041655093 | K5: =IF(J5<>"",RANK(J5,$J$3:$J$25,1),"") -> 11 | M5: =IF(L5<>"",RANK(L5,$L$3:$L$25,1),"") | N5: =SUM(C5,E5,G5,I5,K5,M5) -> 44 | O5: =IF(N5<>"",RANK(N5,$N$3:$N$25,1),"") -> 11 | P5: =IF(A5<>"",A5,"") -> CARROLLTON
A6: CHEROKEE | C6: =IF(B6<>"",RANK(B6,$B$3:$B$25,1),"") | D6: 0.0039778935 | E6: =IF(D6<>"",RANK(D6,$D$3:$D$25,1),"") -> 5 | F6: 0.0013657407 | G6: =IF(F6<>"",RANK(F6,$F$3:$F$25,1),"") -> 4 | H6: 0.0012869213 | I6: =IF(H6<>"",RANK(H6,$H$3:$H$25,1),"") -> 5 | J6: 0.0012467593 | K6: =IF(J6<>"",RANK(J6,$J$3:$J$25,1),"") -> 5 | M6: =IF(L6<>"",RANK(L6,$L$3:$L$25,1),"") | N6: =SUM(C6,E6,G6,I6,K6,M6) -> 19 | O6: =IF(N6<>"",RANK(N6,$N$3:$N$25,1),"") -> 5 | P6: =IF(A6<>"",A6,"") -> CHEROKEE
A7: EAST PAULDING | C7: =IF(B7<>"",RANK(B7,$B$3:$B$25,1),"") | D7: 0.041655093 | E7: =IF(D7<>"",RANK(D7,$D$3:$D$25,1),"") -> 11 | F7: 0.041655093 | G7: =IF(F7<>"",RANK(F7,$F$3:$F$25,1),"") -> 11 | H7: 0.041655093 | I7: =IF(H7<>"",RANK(H7,$H$3:$H$25,1),"") -> 11 | J7: 0.041655093 | K7: =IF(J7<>"",RANK(J7,$J$3:$J$25,1),"") -> 11 | M7: =IF(L7<>"",RANK(L7,$L$3:$L$25,1),"") | N7: =SUM(C7,E7,G7,I7,K7,M7) -> 44 | O7: =IF(N7<>"",RANK(N7,$N$3:$N$25,1),"") -> 11 | P7: =IF(A7<>"",A7,"") -> EAST PAULDING
A8: ETOWAH 1 | C8: =IF(B8<>"",RANK(B8,$B$3:$B$25,1),"") | D8: 0.0035847222 | E8: =IF(D8<>"",RANK(D8,$D$3:$D$25,1),"") -> 4 | F8: 0.0013310185 | G8: =IF(F8<>"",RANK(F8,$F$3:$F$25,1),"") -> 3 | H8: 0.00098634259 | I8: =IF(H8<>"",RANK(H8,$H$3:$H$25,1),"") -> 2 | J8: 0.0010427083 | K8: =IF(J8<>"",RANK(J8,$J$3:$J$25,1),"") -> 3 | M8: =IF(L8<>"",RANK(L8,$L$3:$L$25,1),"") | N8: =SUM(C8,E8,G8,I8,K8,M8) -> 12 | O8: =IF(N8<>"",RANK(N8,$N$3:$N$25,1),"") -> 2 | P8: =IF(A8<>"",A8,"") -> ETOWAH 1
A9: ETOWAH 2 | C9: =IF(B9<>"",RANK(B9,$B$3:$B$25,1),"") | D9: 0.0042328704 | E9: =IF(D9<>"",RANK(D9,$D$3:$D$25,1),"") -> 6 | F9: 0.0018518519 | G9: =IF(F9<>"",RANK(F9,$F$3:$F$25,1),"") -> 8 | H9: 0.0011737269 | I9: =IF(H9<>"",RANK(H9,$H$3:$H$25,1),"") -> 4 | J9: 0.0013614583 | K9: =IF(J9<>"",RANK(J9,$J$3:$J$25,1),"") -> 6 | M9: =IF(L9<>"",RANK(L9,$L$3:$L$25,1),"") | N9: =SUM(C9,E9,G9,I9,K9,M9) -> 24 | O9: =IF(N9<>"",RANK(N9,$N$3:$N$25,1),"") -> 6 | P9: =IF(A9<>"",A9,"") -> ETOWAH 2
A10: HIRAM | C10: =IF(B10<>"",RANK(B10,$B$3:$B$25,1),"") | D10: 0.0053645833 | E10: =IF(D10<>"",RANK(D10,$D$3:$D$25,1),"") -> 8 | F10: 0.0018402778 | G10: =IF(F10<>"",RANK(F10,$F$3:$F$25,1),"") -> 7 | H10: 0.0023255787 | I10: =IF(H10<>"",RANK(H10,$H$3:$H$25,1),"") -> 9 | J10: 0.0013740741 | K10: =IF(J10<>"",RANK(J10,$J$3:$J$25,1),"") -> 7 | M10: =IF(L10<>"",RANK(L10,$L$3:$L$25,1),"") | N10: =SUM(C10,E10,G10,I10,K10,M10) -> 31 | O10: =IF(N10<>"",RANK(N10,$N$3:$N$25,1),"") -> 7 | P10: =IF(A10<>"",A10,"") -> HIRAM
A11: OSBORNE | C11: =IF(B11<>"",RANK(B11,$B$3:$B$25,1),"") | D11: 0.0031934028 | E11: =IF(D11<>"",RANK(D11,$D$3:$D$25,1),"") -> 1 | F11: 0.0016898148 | G11: =IF(F11<>"",RANK(F11,$F$3:$F$25,1),"") -> 6 | H11: 0.001059375 | I11: =IF(H11<>"",RANK(H11,$H$3:$H$25,1),"") -> 3 | J11: 0.0011866898 | K11: =IF(J11<>"",RANK(J11,$J$3:$J$25,1),"") -> 4 | M11: =IF(L11<>"",RANK(L11,$L$3:$L$25,1),"") | N11: =SUM(C11,E11,G11,I11,K11,M11) -> 14 | O11: =IF(N11<>"",RANK(N11,$N$3:$N$25,1),"") -> 4 | P11: =IF(A11<>"",A11,"") -> OSBORNE
A12: PAULDING COUNTY | C12: =IF(B12<>"",RANK(B12,$B$3:$B$25,1),"") | D12: 0.0045460648 | E12: =IF(D12<>"",RANK(D12,$D$3:$D$25,1),"") -> 7 | F12: 0.0019907407 | G12: =IF(F12<>"",RANK(F12,$F$3:$F$25,1),"") -> 9 | H12: 0.001596412 | I12: =IF(H12<>"",RANK(H12,$H$3:$H$25,1),"") -> 6 | J12: 0.0015665509 | K12: =IF(J12<>"",RANK(J12,$J$3:$J$25,1),"") -> 9 | M12: =IF(L12<>"",RANK(L12,$L$3:$L$25,1),"") | N12: =SUM(C12,E12,G12,I12,K12,M12) -> 31 | O12: =IF(N12<>"",RANK(N12,$N$3:$N$25,1),"") -> 7 | P12: =IF(A12<>"",A12,"") -> PAULDING COUNTY
A13: PEBBLEBROOK | C13: =IF(B13<>"",RANK(B13,$B$3:$B$25,1),"") | D13: 0.0054047454 | E13: =IF(D13<>"",RANK(D13,$D$3:$D$25,1),"") -> 9 | F13: 0.0016782407 | G13: =IF(F13<>"",RANK(F13,$F$3:$F$25,1),"") -> 5 | H13: 0.041655093 | I13: =IF(H13<>"",RANK(H13,$H$3:$H$25,1),"") -> 10 | J13: 0.0014949074 | K13: =IF(J13<>"",RANK(J13,$J$3:$J$25,1),"") -> 8 | M13: =IF(L13<>"",RANK(L13,$L$3:$L$25,1),"") | N13: =SUM(C13,E13,G13,I13,K13,M13) -> 32 | O13: =IF(N13<>"",RANK(N13,$N$3:$N$25,1),"") -> 9 | P13: =IF(A13<>"",A13,"") -> PEBBLEBROOK
A14: VETERANS | C14: =IF(B14<>"",RANK(B14,$B$3:$B$25,1),"") | D14: 0.0035663194 | E14: =IF(D14<>"",RANK(D14,$D$3:$D$25,1),"") -> 3 | F14: 0.0011342593 | G14: =IF(F14<>"",RANK(F14,$F$3:$F$25,1),"") -> 1 | H14: 0.00073680556 | I14: =IF(H14<>"",RANK(H14,$H$3:$H$25,1),"") -> 1 | J14: 0.00095740741 | K14: =IF(J14<>"",RANK(J14,$J$3:$J$25,1),"") -> 2 | M14: =IF(L14<>"",RANK(L14,$L$3:$L$25,1),"") | N14: =SUM(C14,E14,G14,I14,K14,M14) -> 7 | O14: =IF(N14<>"",RANK(N14,$N$3:$N$25,1),"") -> 1 | P14: =IF(A14<>"",A14,"") -> VETERANS
A15: EMPTY 3 | B15: 0.041655093 | C15: =IF(B15<>"",RANK(B15,$B$3:$B$25,1),"") -> 1 | D15: 0.041655093 | E15: =IF(D15<>"",RANK(D15,$D$3:$D$25,1),"") -> 11 | F15: 0.041655093 | G15: =IF(F15<>"",RANK(F15,$F$3:$F$25,1),"") -> 11 | H15: 0.041655093 | I15: =IF(H15<>"",RANK(H15,$H$3:$H$25,1),"") -> 11 | J15: 0.041655093 | K15: =IF(J15<>"",RANK(J15,$J$3:$J$25,1),"") -> 11 | M15: =IF(L15<>"",RANK(L15,$L$3:$L$25,1),"") | N15: =SUM(C15,E15,G15,I15,K15,M15) -> 45 | O15: =IF(N15<>"",RANK(N15,$N$3:$N$25,1),"") -> 13 | P15: =IF(A15<>"",A15,"") -> EMPTY 3
A16: EMPTY 4 | B16: 0.041655093 | C16: =IF(B16<>"",RANK(B16,$B$3:$B$25,1),"") -> 1 | D16: 0.041655093 | E16: =IF(D16<>"",RANK(D16,$D$3:$D$25,1),"") -> 11 | F16: 0.041655093 | G16: =IF(F16<>"",RANK(F16,$F$3:$F$25,1),"") -> 11 | H16: 0.041655093 | I16: =IF(H16<>"",RANK(H16,$H$3:$H$25,1),"") -> 11 | J16: 0.041655093 | K16: =IF(J16<>"",RANK(J16,$J$3:$J$25,1),"") -> 11 | M16: =IF(L16<>"",RANK(L16,$L$3:$L$25,1),"") | N16: =SUM(C16,E16,G16,I16,K16,M16) -> 45 | O16: =IF(N16<>"",RANK(N16,$N$3:$N$25,1),"") -> 13 | P16: =IF(A16<>"",A16,"") -> EMPTY 4
A17: EMPTY 5 | B17: 0.041655093 | C17: =IF(B17<>"",RANK(B17,$B$3:$B$25,1),"") -> 1 | D17: 0.041655093 | E17: =IF(D17<>"",RANK(D17,$D$3:$D$25,1),"") -> 11 | F17: 0.041655093 | G17: =IF(F17<>"",RANK(F17,$F$3:$F$25,1),"") -> 11 | H17: 0.041655093 | I17: =IF(H17<>"",RANK(H17,$H$3:$H$25,1),"") -> 11 | J17: 0.041655093 | K17: =IF(J17<>"",RANK(J17,$J$3:$J$25,1),"") -> 11 | M17: =IF(L17<>"",RANK(L17,$L$3:$L$25,1),"") | N17: =SUM(C17,E17,G17,I17,K17,M17) -> 45 | O17: =IF(N17<>"",RANK(N17,$N$3:$N$25,1),"") -> 13 | P17: =IF(A17<>"",A17,"") -> EMPTY 5
A18: EMPTY 6 | B18: 0.041655093 | C18: =IF(B18<>"",RANK(B18,$B$3:$B$25,1),"") -> 1 | D18: 0.041655093 | E18: =IF(D18<>"",RANK(D18,$D$3:$D$25,1),"") -> 11 | F18: 0.041655093 | G18: =IF(F18<>"",RANK(F18,$F$3:$F$25,1),"") -> 11 | H18: 0.041655093 | I18: =IF(H18<>"",RANK(H18,$H$3:$H$25,1),"") -> 11 | J18: 0.041655093 | K18: =IF(J18<>"",RANK(J18,$J$3:$J$25,1),"") -> 11 | M18: =IF(L18<>"",RANK(L18,$L$3:$L$25,1),"") | N18: =SUM(C18,E18,G18,I18,K18,M18) -> 45 | O18: =IF(N18<>"",RANK(N18,$N$3:$N$25,1),"") -> 13 | P18: =IF(A18<>"",A18,"") -> EMPTY 6
A19: EMPTY 7 | B19: 0.041655093 | C19: =IF(B19<>"",RANK(B19,$B$3:$B$25,1),"") -> 1 | D19: 0.041655093 | E19: =IF(D19<>"",RANK(D19,$D$3:$D$25,1),"") -> 11 | F19: 0.041655093 | G19: =IF(F19<>"",RANK(F19,$F$3:$F$25,1),"") -> 11 | H19: 0.041655093 | I19: =IF(H19<>"",RANK(H19,$H$3:$H$25,1),"") -> 11 | J19: 0.041655093 | K19: =IF(J19<>"",RANK(J19,$J$3:$J$25,1),"") -> 11 | M19: =IF(L19<>"",RANK(L19,$L$3:$L$25,1),"") | N19: =SUM(C19,E19,G19,I19,K19,M19) -> 45 | O19: =IF(N19<>"",RANK(N19,$N$3:$N$25,1),"") -> 13 | P19: =IF(A19<>"",A19,"") -> EMPTY 7
A20: EMPTY 8 | B20: 0.041655093 | C20: =IF(B20<>"",RANK(B20,$B$3:$B$25,1),"") -> 1 | D20: 0.041655093 | E20: =IF(D20<>"",RANK(D20,$D$3:$D$25,1),"") -> 11 | F20: 0.041655093 | G20: =IF(F20<>"",RANK(F20,$F$3:$F$25,1),"") -> 11 | H20: 0.041655093 | I20: =IF(H20<>"",RANK(H20,$H$3:$H$25,1),"") -> 11 | J20: 0.041655093 | K20: =IF(J20<>"",RANK(J20,$J$3:$J$25,1),"") -> 11 | M20: =IF(L20<>"",RANK(L20,$L$3:$L$25,1),"") | N20: =SUM(C20,E20,G20,I20,K20,M20) -> 45 | O20: =IF(N20<>"",RANK(N20,$N$3:$N$25,1),"") -> 13 | P20: =IF(A20<>"",A20,"") -> EMPTY 8
A21: EMPTY 9 | B21: 0.041655093 | C21: =IF(B21<>"",RANK(B21,$B$3:$B$25,1),"") -> 1 | D21: 0.041655093 | E21: =IF(D21<>"",RANK(D21,$D$3:$D$25,1),"") -> 11 | F21: 0.041655093 | G21: =IF(F21<>"",RANK(F21,$F$3:$F$25,1),"") -> 11 | H21: 0.041655093 | I21: =IF(H21<>"",RANK(H21,$H$3:$H$25,1),"") -> 11 | J21: 0.041655093 | K21: =IF(J21<>"",RANK(J21,$J$3:$J$25,1),"") -> 11 | M21: =IF(L21<>"",RANK(L21,$L$3:$L$25,1),"") | N21: =SUM(C21,E21,G21,I21,K21,M21) -> 45 | O21: =IF(N21<>"",RANK(N21,$N$3:$N$25,1),"") -> 13 | P21: =IF(A21<>"",A21,"") -> EMPTY 9
A22: EMPTY 10 | B22: 0.041655093 | C22: =IF(B22<>"",RANK(B22,$B$3:$B$25,1),"") -> 1 | D22: 0.041655093 | E22: =IF(D22<>"",RANK(D22,$D$3:$D$25,1),"") -> 11 | F22: 0.041655093 | G22: =IF(F22<>"",RANK(F22,$F$3:$F$25,1),"") -> 11 | H22: 0.041655093 | I22: =IF(H22<>"",RANK(H22,$H$3:$H$25,1),"") -> 11 | J22: 0.041655093 | K22: =IF(J22<>"",RANK(J22,$J$3:$J$25,1),"") -> 11 | M22: =IF(L22<>"",RANK(L22,$L$3:$L$25,1),"") | N22: =SUM(C22,E22,G22,I22,K22,M22) -> 45 | O22: =IF(N22<>"",RANK(N22,$N$3:$N$25,1),"") -> 13 | P22: =IF(A22<>"",A22,"") -> EMPTY 10
A23: EMPTY 11 | B23: 0.041655093 | C23: =IF(B23<>"",RANK(B23,$B$3:$B$25,1),"") -> 1 | D23: 0.041655093 | E23: =IF(D23<>"",RANK(D23,$D$3:$D$25,1),"") -> 11 | F23: 0.041655093 | G23: =IF(F23<>"",RANK(F23,$F$3:$F$25,1),"") -> 11 | H23: 0.041655093 | I23: =IF(H23<>"",RANK(H23,$H$3:$H$25,1),"") -> 11 | J23: 0.041655093 | K23: =IF(J23<>"",RANK(J23,$J$3:$J$25,1),"") -> 11 | M23: =IF(L23<>"",RANK(L23,$L$3:$L$25,1),"") | N23: =SUM(C23,E23,G23,I23,K23,M23) -> 45 | O23: =IF(N23<>"",RANK(N23,$N$3:$N$25,1),"") -> 13 | P23: =IF(A23<>"",A23,"") -> EMPTY 11
A24: EMPTY 12 | B24: 0.041655093 | C24: =IF(B24<>"",RANK(B24,$B$3:$B$25,1),"") -> 1 | D24: 0.041655093 | E24: =IF(D24<>"",RANK(D24,$D$3:$D$25,1),"") -> 11 | F24: 0.041655093 | G24: =IF(F24<>"",RANK(F24,$F$3:$F$25,1),"") -> 11 | H24: 0.041655093 | I24: =IF(H24<>"",RANK(H24,$H$3:$H$25,1),"") -> 11 | J24: 0.041655093 | K24: =IF(J24<>"",RANK(J24,$J$3:$J$25,1),"") -> 11 | M24: =IF(L24<>"",RANK(L24,$L$3:$L$25,1),"") | N24: =SUM(C24,E24,G24,I24,K24,M24) -> 45 | O24: =IF(N24<>"",RANK(N24,$N$3:$N$25,1),"") -> 13 | P24: =IF(A24<>"",A24,"") -> EMPTY 12
A25: EMPTY 13 | B25: 0.041655093 | C25: =IF(B25<>"",RANK(B25,$B$3:$B$25,1),"") -> 1 | D25: 0.041655093 | E25: =IF(D25<>"",RANK(D25,$D$3:$D$25,1),"") -> 11 | F25: 0.041655093 | G25: =IF(F25<>"",RANK(F25,$F$3:$F$25,1),"") -> 11 | H25: 0.041655093 | I25: =IF(H25<>"",RANK(H25,$H$3:$H$25,1),"") -> 11 | J25: 0.041655093 | K25: =IF(J25<>"",RANK(J25,$J$3:$J$25,1),"") -> 11 | M25: =IF(L25<>"",RANK(L25,$L$3:$L$25,1),"") | N25: =SUM(C25,E25,G25,I25,K25,M25) -> 45 | O25: =IF(N25<>"",RANK(N25,$N$3:$N$25,1),"") -> 13 | P25: =IF(A25<>"",A25,"") -> EMPTY 13
A26: Disqualified
A27: Penalty Added
A28: Did Not Participate
A29: TIE BREAKER TEAM RUN

Sheet Results
A1: RESULTS
A2: FEMALE | C2: MIXED | E2: MALE
A3: =Female!$B2 -> Team Run | C3: =Female!$B2 -> Team Run | E3: =Female!$B2 -> Team Run
A4: 3 | B4: =VLOOKUP(A4,Female!C:P,14,FALSE) -> #N/A | C4: 3 | D4: =VLOOKUP(C4,Mixed!C:P,14,FALSE) -> #N/A | E4: 3 | F4: =VLOOKUP(E4,Male!C:P,14,FALSE) -> #N/A
A5: 2 | B5: =VLOOKUP(A5,Female!C:P,14,FALSE) -> #N/A | C5: 2 | D5: =VLOOKUP(C5,Mixed!C:P,14,FALSE) -> #N/A | E5: 2 | F5: =VLOOKUP(E5,Male!C:P,14,FALSE) -> #N/A
A6: 1 | B6: =VLOOKUP(A6,Female!C:P,14,FALSE) -> EMPTY 3 | C6: 1 | D6: =VLOOKUP(C6,Mixed!C:P,14,FALSE) -> #N/A | E6: 1 | F6: =VLOOKUP(E6,Male!C:P,14,FALSE) -> EMPTY 5
A8: =Female!$F2 -> RFC | C8: =Female!$F2 -> RFC | E8: =Female!$F2 -> RFC
A9: 3 | B9: =VLOOKUP(A9,Female!G:P,10,FALSE) -> ETOWAH 1 | C9: 3 | D9: =VLOOKUP(C9,Mixed!G:P,10,FALSE) -> #N/A | E9: 3 | F9: =VLOOKUP(E9,Male!G:P,10,FALSE) -> #N/A
A10: 2 | B10: =VLOOKUP(A10,Female!G:P,10,FALSE) -> CAMPBELL | C10: 2 | D10: =VLOOKUP(C10,Mixed!G:P,10,FALSE) -> GMC PREP 1 | E10: 2 | F10: =VLOOKUP(E10,Male!G:P,10,FALSE) -> ETOWAH 1
A11: 1 | B11: =VLOOKUP(A11,Female!G:P,10,FALSE) -> VETERANS | C11: 1 | D11: =VLOOKUP(C11,Mixed!G:P,10,FALSE) -> ADAIRSVILLE 1 | E11: 1 | F11: =VLOOKUP(E11,Male!G:P,10,FALSE) -> OSBORNE
A13: =Female!$L2 -> -NA- | C13: =Female!$L2 -> -NA- | E13: =Female!$L2 -> -NA-
A14: 3 | B14: =VLOOKUP(A14,Female!M:P,4,FALSE) -> #N/A | C14: 3 | D14: =VLOOKUP(C14,Mixed!M:P,4,FALSE) -> #N/A | E14: 3 | F14: =VLOOKUP(E14,Male!M:P,4,FALSE) -> #N/A
A15: 2 | B15: =VLOOKUP(A15,Female!M:P,4,FALSE) -> #N/A | C15: 2 | D15: =VLOOKUP(C15,Mixed!M:P,4,FALSE) -> #N/A | E15: 2 | F15: =VLOOKUP(E15,Male!M:P,4,FALSE) -> #N/A
A16: 1 | B16: =VLOOKUP(A16,Female!M:P,4,FALSE) -> #N/A | C16: 1 | D16: =VLOOKUP(C16,Mixed!M:P,4,FALSE) -> #N/A | E16: 1 | F16: =VLOOKUP(E16,Male!M:P,4,FALSE) -> ADAIRSVILLE 1
A18: =Female!$D2 -> C C R | C18: =Female!$D2 -> C C R | E18: =Female!$D2 -> C C R
A19: 3 | B19: =VLOOKUP(A19,Female!E:P,12,FALSE) -> VETERANS | C19: 3 | D19: =VLOOKUP(C19,Mixed!E:P,12,FALSE) -> NORTH PAULDING 1 | E19: 3 | F19: =VLOOKUP(E19,Male!E:P,12,FALSE) -> ETOWAH 1
A20: 2 | B20: =VLOOKUP(A20,Female!E:P,12,FALSE) -> CAMPBELL | C20: 2 | D20: =VLOOKUP(C20,Mixed!E:P,12,FALSE) -> ADAIRSVILLE 1 | E20: 2 | F20: =VLOOKUP(E20,Male!E:P,12,FALSE) -> OSBORNE
A21: 1 | B21: =VLOOKUP(A21,Female!E:P,12,FALSE) -> OSBORNE | C21: 1 | D21: =VLOOKUP(C21,Mixed!E:P,12,FALSE) -> GMC PREP 1 | E21: 1 | F21: =VLOOKUP(E21,Male!E:P,12,FALSE) -> ADAIRSVILLE 1
A23: =Female!$H2 -> Rope Bridge | C23: =Female!$H2 -> Rope Bridge | E23: =Female!$H2 -> Rope Bridge
A24: 3 | B24: =VLOOKUP(A24,Female!I:P,8,FALSE) -> OSBORNE | C24: 3 | D24: =VLOOKUP(C24,Mixed!I:P,8,FALSE) -> NORTH PAULDING 1 | E24: 3 | F24: =VLOOKUP(E24,Male!I:P,8,FALSE) -> ADAIRSVILLE 1
A25: 2 | B25: =VLOOKUP(A25,Female!I:P,8,FALSE) -> ETOWAH 1 | C25: 2 | D25: =VLOOKUP(C25,Mixed!I:P,8,FALSE) -> EAST PAULDING 1 | E25: 2 | F25: =VLOOKUP(E25,Male!I:P,8,FALSE) -> VETERANS
A26: 1 | B26: =VLOOKUP(A26,Female!I:P,8,FALSE) -> VETERANS | C26: 1 | D26: =VLOOKUP(C26,Mixed!I:P,8,FALSE) -> ADAIRSVILLE 1 | E26: 1 | F26: =VLOOKUP(E26,Male!I:P,8,FALSE) -> ETOWAH 1
A28: =Female!$J2 -> Tire Flip | C28: =Female!$J2 -> Tire Flip | E28: =Female!$J2 -> Tire Flip
A29: 3 | B29: =VLOOKUP(A29,Female!K:P,6,FALSE) -> ETOWAH 1 | C29: 3 | D29: =VLOOKUP(C29,Mixed!K:P,6,FALSE) -> ADAIRSVILLE 1 | E29: 3 | F29: =VLOOKUP(E29,Male!K:P,6,FALSE) -> CAMPBELL
A30: 2 | B30: =VLOOKUP(A30,Female!K:P,6,FALSE) -> VETERANS | C30: 2 | D30: =VLOOKUP(C30,Mixed!K:P,6,FALSE) -> MARIETTA 2 | E30: 2 | F30: =VLOOKUP(E30,Male!K:P,6,FALSE) -> ETOWAH 1
A31: 1 | B31: =VLOOKUP(A31,Female!K:P,6,FALSE) -> CAMPBELL | C31: 1 | D31: =VLOOKUP(C31,Mixed!K:P,6,FALSE) -> NORTH PAULDING 1 | E31: 1 | F31: =VLOOKUP(E31,Male!K:P,6,FALSE) -> NORTH PAULDING
A32: OVERALL
A34: FEMALE | C34: MIXED | E34: MALE
A35: 3 | B35: =VLOOKUP(A35,Female!O:P,2,FALSE) -> CAMPBELL | C35: 3 | D35: =VLOOKUP(C35,Mixed!O:P,2,FALSE) -> GMC PREP 1 | E35: 3 | F35: =VLOOKUP(E35,Male!O:P,2,FALSE) -> VETERANS
A36: 2 | B36: =VLOOKUP(A36,Female!O:P,2,FALSE) -> ETOWAH 1 | C36: 2 | D36: =VLOOKUP(C36,Mixed!O:P,2,FALSE) -> NORTH PAULDING 1 | E36: 2 | F36: =VLOOKUP(E36,Male!O:P,2,FALSE) -> OSBORNE
A37: 1 | B37: =VLOOKUP(A37,Female!O:P,2,FALSE) -> VETERANS | C37: 1 | D37: =VLOOKUP(C37,Mixed!O:P,2,FALSE) -> ADAIRSVILLE 1 | E37: 1 | F37: =VLOOKUP(E37,Male!O:P,2,FALSE) -> ETOWAH 1
B39: Team Run Removed | D39: CCR Tie-Breaker

Sheet Helper
A1: Notes
A2: Adds | B2: To add a team, in the School column, type over a cell with EMPTY#, or add to the next blank cell. Consider this a new row.
A4: Deletes | B4: To remove a team, like EMPTY1, just delete the text in the School column, cell A.
B5: Next delete the text from cell N (column Total Points). This will null cell O (Overall Finish) and prevent the row from being included in the Results sheet Overall results.
B6: To exclude empty rows from the Results tab Overall results, delete values cell N (Total Points).
A8: Undo | B8: If you accidently type in the wrong cell, press the esc key, or undo your changes Edit > Undo Typing
A9: Time Entry | B9: When entering times, include the delimiters ":" and "." in your entries (ex: 01:19.25)
A10: Time Format | B10: Cell formatting: select cell > right-mouse click > choose Format Cells > Number tab > Category: Custom > Type: mm:ss.00
C11: Cell formatting for times <= 23:59, format as hh:mm:ss
C12: Cell formatting for times > 23:59, format as [h]:mm:ss
C13: To track hundredths of seconds, append .00 (ex: mm:ss.00)
B15: A mouse double-click will reset formatting to include a date. Don't panic and reset cell format using above steps
A17: RANK formula explained | B17: source: https://exceljet.net/excel-functions/excel-rank-function
B18: You can use the RANK function to rank numeric values. RANK has two modes of operation: ranking values so that the largest value is ranked #1 (order = 0), and ranking values so that the smallest value is #1 (order = 1).
B19: =RANK(C2,Team Relay,1) -or- =RANK(C2,$B$2:$B$24,1) [where "Team Relay" is a Named Range]
A22: Column:Row formula | B22: C:2 | C22: =IF(B2<>"",RANK(B2,$B$2:$B$24,1),"") | E22: Populate cell C:2 with results from: If B2 is null then display null, otherwise, check B2 in relation to B2 thru B24 and order it where lower value is better.
B23: C:3 | C23: =IF(B3<>"",RANK(B3,$B$2:$B$24,1),"")
B24: C:4 | C24: =IF(B4<>"",RANK(B4,$B$2:$B$24,1),"")
B25: . . .
B26: K:2 | C26: =IF(J2<>"",RANK(J2,$J$2:$J$24,1),"")
B27: K:3 | C27: =IF(J3<>"",RANK(J3,$J$2:$J$24,1),"")
B28: K:4 | C28: =IF(J4<>"",RANK(J4,$J$2:$J$24,1),"")
A30: VLOOKUP formula explained | B30: source: https://exceljet.net/excel-functions/excel-vlookup-function
A31: Female sheet | B31: VLOOKUP is an Excel function to lookup and retrieve data from a specific column in table. VLOOKUP supports approximate and exact matching, and wildcards (* ?) for partial matches.
B32: The "V" stands for "vertical". Lookup values must appear in the first column of the table, with lookup columns to the right.
B34: Syntax
C35: =VLOOKUP (value, table, col_index, [range_lookup])
B36: Arguments
C37: value - The value to look for in the first column of a table.
C38: table - The table from which to retrieve a value.
C39: col_index - The column in the table from which to retrieve a value.
C40: range_lookup - [optional] TRUE = approximate match (default). FALSE = exact match.
B42: =VLOOKUP(A36,Female!O:P,2,FALSE)
B43: =VLOOKUP (value, table, col_index, [range_lookup])
B44: Above, look for value (in cell A36 (value = 1)), from table (Sheet = Female, columns O thru P), exactly matching value in cell A36, and return col_index 2 (name for column P, the School)
C45: In this example, cell A36 is the number 1, so get me the School who had the Overall Finish of 1.
C46: The table is Female, specifically columns O and P, "Overall Finish" and "School Name"
C47: col_index is 2, the 2nd column from the table Female!O:P, or P, the School Name
C48: [range_lookup] is FALSE, for an exact match
A53: TesterRow - Info Only | B53: 1.3625 | D53: 1.0944444 | F53: 0.9 | J53: 1.75 | L53: 0.23125
