Workbook
Name Team_Relay: Female!$C$3:$C$9

Sheet Team List
A1: TEAMS
A2: Veterans
A3: Perry
A4: Lowndes
A5: Colquitt
A6: Crawford
A7: NS WR
A8: Glenn Acad
A9: New Hampstead
A10: Wilkinson Co
A11: Smith Station
A12: Benedictine
... A15: Brunswick

Sheet Male
B2: SCHOOL | C2: Team Run | D2: Place | E2: Obstacle Course | F2: Place | G2: CCR | H2: Place | I2: Rope Bridge | J2: Place | K2: CCR | L2: Place | M2: Raider Item Carry | N2: Place | O2: Total Quality Points | P2: Overall Finish | Q2: SCHOOL | R2: Group | S2: Overall Time | T2: Verified (Yes or No)
A3: 1 | B3: Benedictine (M) | C3: 0.0072409722 | D3: =IF(C3<>"",RANK(C3,$C$3:$C$11,1),"") -> 2 | E3: 0.0032826389 | F3: =IF(E3<>"",RANK(E3,$E$3:$E$11,1),"") -> 4 | G3: 0.125 | H3: =IF(G3<>"",RANK(G3,$G$3:$G$11,1),"") -> 4 | I3: 0.00080868056 | J3: =IF(I3<>"",RANK(I3,$I$3:$I$11,1),"") -> 3 | K3: 0.0044611111 | L3: =IF(K3<>"",RANK(K3,$K$3:$K$11,1),"") -> 1 | M3: 0.0026431713 | N3: =IF(M3<>"",RANK(M3,$M$3:$M$11,1),"") -> 2 | O3: =SUM(D3,F3,J3,L3,N3) -> 12 | P3: =IF(O3<>"",RANK(O3,$O$3:$O$11,1),"") -> 2 | Q3: =IF(B3<>"",B3,"") -> Benedictine (M) | S3: =SUM(K3,I3,E3,C3,M3) -> 0.018436574
A4: 2 | B4: Benedictine (G) | C4: 0.0094798611 | D4: =IF(C4<>"",RANK(C4,$C$3:$C$11,1),"") -> 8 | E4: 0.0052212963 | F4: =IF(E4<>"",RANK(E4,$E$3:$E$11,1),"") -> 9 | G4: 0.16666667 | H4: =IF(G4<>"",RANK(G4,$G$3:$G$11,1),"") -> 5 | I4: 0.0012059028 | J4: =IF(I4<>"",RANK(I4,$I$3:$I$11,1),"") -> 6 | K4: 0.0068416667 | L4: =IF(K4<>"",RANK(K4,$K$3:$K$11,1),"") -> 8 | M4: 0.0032946759 | N4: =IF(M4<>"",RANK(M4,$M$3:$M$11,1),"") -> 8 | O4: =SUM(D4,F4,J4,L4,N4) -> 39 | P4: =IF(O4<>"",RANK(O4,$O$3:$O$11,1),"") -> 8 | Q4: =IF(B4<>"",B4,"") -> Benedictine (G) | S4: =SUM(K4,I4,E4,C4,M4) -> 0.026043403
A5: 3 | B5: Benedictine (W) | C5: 0.0078861111 | D5: =IF(C5<>"",RANK(C5,$C$3:$C$11,1),"") -> 5 | E5: 0.0042490741 | F5: =IF(E5<>"",RANK(E5,$E$3:$E$11,1),"") -> 7 | G5: 0.20833333 | H5: =IF(G5<>"",RANK(G5,$G$3:$G$11,1),"") -> 6 | I5: 0.00099328704 | J5: =IF(I5<>"",RANK(I5,$I$3:$I$11,1),"") -> 4 | K5: 0.006187037 | L5: =IF(K5<>"",RANK(K5,$K$3:$K$11,1),"") -> 6 | M5: 0.0029853009 | N5: =IF(M5<>"",RANK(M5,$M$3:$M$11,1),"") -> 7 | O5: =SUM(D5,F5,J5,L5,N5) -> 29 | P5: =IF(O5<>"",RANK(O5,$O$3:$O$11,1),"") -> 6 | Q5: =IF(B5<>"",B5,"") -> Benedictine (W) | S5: =SUM(K5,I5,E5,C5,M5) -> 0.02230081
A6: 4 | B6: Glenn Acad | C6: 0.0075578704 | D6: =IF(C6<>"",RANK(C6,$C$3:$C$11,1),"") -> 3 | E6: 0.0032189815 | F6: =IF(E6<>"",RANK(E6,$E$3:$E$11,1),"") -> 3 | G6: 0.25 | H6: =IF(G6<>"",RANK(G6,$G$3:$G$11,1),"") -> 7 | I6: 0.0010175926 | J6: =IF(I6<>"",RANK(I6,$I$3:$I$11,1),"") -> 5 | K6: 0.0047481481 | L6: =IF(K6<>"",RANK(K6,$K$3:$K$11,1),"") -> 3 | M6: 0.0026476852 | N6: =IF(M6<>"",RANK(M6,$M$3:$M$11,1),"") -> 3 | O6: =SUM(D6,F6,J6,L6,N6) -> 17 | P6: =IF(O6<>"",RANK(O6,$O$3:$O$11,1),"") -> 3 | Q6: =IF(B6<>"",B6,"") -> Glenn Acad | S6: =SUM(K6,I6,E6,C6,M6) -> 0.019190278
A7: 5 | B7: New Hampstead | C7: 0.0088194444 | D7: =IF(C7<>"",RANK(C7,$C$3:$C$11,1),"") -> 7 | E7: 0.0037166667 | F7: =IF(E7<>"",RANK(E7,$E$3:$E$11,1),"") -> 6 | G7: 0.0026174769 | H7: =IF(G7<>"",RANK(G7,$G$3:$G$11,1),"") -> 1 | I7: 0.0035702546 | J7: =IF(I7<>"",RANK(I7,$I$3:$I$11,1),"") -> 9 | K7: 0.0066342593 | L7: =IF(K7<>"",RANK(K7,$K$3:$K$11,1),"") -> 7 | M7: 0.0028722222 | N7: =IF(M7<>"",RANK(M7,$M$3:$M$11,1),"") -> 6 | O7: =SUM(D7,F7,J7,L7,N7) -> 35 | P7: =IF(O7<>"",RANK(O7,$O$3:$O$11,1),"") -> 7 | Q7: =IF(B7<>"",B7,"") -> New Hampstead | S7: =SUM(K7,I7,E7,C7,M7) -> 0.025612847
A8: 6 | B8: Perry Varsity | C8: 0.0086458333 | D8: =IF(C8<>"",RANK(C8,$C$3:$C$11,1),"") -> 6 | E8: 0.0030938657 | F8: =IF(E8<>"",RANK(E8,$E$3:$E$11,1),"") -> 2 | G8: 0.375 | H8: =IF(G8<>"",RANK(G8,$G$3:$G$11,1),"") -> 8 | I8: 0.000734375 | J8: =IF(I8<>"",RANK(I8,$I$3:$I$11,1),"") -> 2 | K8: 0.0054478009 | L8: =IF(K8<>"",RANK(K8,$K$3:$K$11,1),"") -> 4 | M8: 0.002840162 | N8: =IF(M8<>"",RANK(M8,$M$3:$M$11,1),"") -> 5 | O8: =SUM(D8,F8,J8,L8,N8) -> 19 | P8: =IF(O8<>"",RANK(O8,$O$3:$O$11,1),"") -> 4 | Q8: =IF(B8<>"",B8,"") -> Perry Varsity | S8: =SUM(K8,I8,E8,C8,M8) -> 0.020762037
A9: 7 | B9: Perry JV | C9: 0.0095039352 | D9: =IF(C9<>"",RANK(C9,$C$3:$C$11,1),"") -> 9 | E9: 0.003530787 | F9: =IF(E9<>"",RANK(E9,$E$3:$E$11,1),"") -> 5 | G9: 0.0038731481 | H9: =IF(G9<>"",RANK(G9,$G$3:$G$11,1),"") -> 3 | I9: 0.0021405093 | J9: =IF(I9<>"",RANK(I9,$I$3:$I$11,1),"") -> 8 | K9: 0.0070659722 | L9: =IF(K9<>"",RANK(K9,$K$3:$K$11,1),"") -> 9 | M9: 0.003412037 | N9: =IF(M9<>"",RANK(M9,$M$3:$M$11,1),"") -> 9 | O9: =SUM(D9,F9,J9,L9,N9) -> 40 | P9: =IF(O9<>"",RANK(O9,$O$3:$O$11,1),"") -> 9 | Q9: =IF(B9<>"",B9,"") -> Perry JV | S9: =SUM(K9,I9,E9,C9,M9) -> 0.025653241
A10: 8 | B10: Richmond Hill | C10: 0.0078179398 | D10: =IF(C10<>"",RANK(C10,$C$3:$C$11,1),"") -> 4 | E10: 0.0044603009 | F10: =IF(E10<>"",RANK(E10,$E$3:$E$11,1),"") -> 8 | G10: 0.45833333 | H10: =IF(G10<>"",RANK(G10,$G$3:$G$11,1),"") -> 9 | I10: 0.0012118056 | J10: =IF(I10<>"",RANK(I10,$I$3:$I$11,1),"") -> 7 | K10: 0.0055188657 | L10: =IF(K10<>"",RANK(K10,$K$3:$K$11,1),"") -> 5 | M10: 0.002758912 | N10: =IF(M10<>"",RANK(M10,$M$3:$M$11,1),"") -> 4 | O10: =SUM(D10,F10,J10,L10,N10) -> 28 | P10: =IF(O10<>"",RANK(O10,$O$3:$O$11,1),"") -> 5 | Q10: =IF(B10<>"",B10,"") -> Richmond Hill | S10: =SUM(K10,I10,E10,C10,M10) -> 0.021767824
A11: 9 | B11: Veterans | C11: 0.0069885417 | D11: =IF(C11<>"",RANK(C11,$C$3:$C$11,1),"") -> 1 | E11: 0.0026579861 | F11: =IF(E11<>"",RANK(E11,$E$3:$E$11,1),"") -> 1 | G11: 0.0027177083 | H11: =IF(G11<>"",RANK(G11,$G$3:$G$11,1),"") -> 2 | I11: 0.00067118056 | J11: =IF(I11<>"",RANK(I11,$I$3:$I$11,1),"") -> 1 | K11: 0.0046657407 | L11: =IF(K11<>"",RANK(K11,$K$3:$K$11,1),"") -> 2 | M11: 0.0024399306 | N11: =IF(M11<>"",RANK(M11,$M$3:$M$11,1),"") -> 1 | O11: =SUM(D11,F11,J11,L11,N11) -> 6 | P11: =IF(O11<>"",RANK(O11,$O$3:$O$11,1),"") -> 1 | Q11: =IF(B11<>"",B11,"") -> Veterans | S11: =SUM(K11,I11,E11,C11,M11) -> 0.01742338
A12: 10 | D12: =IF(C12<>"",RANK(C12,$C$3:$C$11,1),"") | F12: =IF(E12<>"",RANK(E12,$E$3:$E$11,1),"") | G12: 0.0027177083 | H12: =IF(G12<>"",RANK(G12,$G$3:$G$11,1),"") -> 2 | J12: =IF(I12<>"",RANK(I12,$I$3:$I$11,1),"") | L12: =IF(K12<>"",RANK(K12,$K$3:$K$11,1),"") | N12: =IF(M12<>"",RANK(M12,$M$3:$M$11,1),"") | P12: =IF(O12<>"",RANK(O12,$O$3:$O$11,1),"") | Q12: =IF(B12<>"",B12,"") | S12: =SUM(K12,I12,E12,C12,M12) -> 0
A13: 11 | D13: =IF(C13<>"",RANK(C13,$C$3:$C$11,1),"") | F13: =IF(E13<>"",RANK(E13,$E$3:$E$11,1),"") | G13: 0.0027177083 | H13: =IF(G13<>"",RANK(G13,$G$3:$G$11,1),"") -> 2 | J13: =IF(I13<>"",RANK(I13,$I$3:$I$11,1),"") | L13: =IF(K13<>"",RANK(K13,$K$3:$K$11,1),"") | N13: =IF(M13<>"",RANK(M13,$M$3:$M$11,1),"") | P13: =IF(O13<>"",RANK(O13,$O$3:$O$11,1),"") | Q13: =IF(B13<>"",B13,"") | S13: =SUM(K13,I13,E13,C13,M13) -> 0
A14: 12 | D14: =IF(C14<>"",RANK(C14,$C$3:$C$11,1),"") | F14: =IF(E14<>"",RANK(E14,$E$3:$E$11,1),"") | G14: 0.0027177083 | H14: =IF(G14<>"",RANK(G14,$G$3:$G$11,1),"") -> 2 | J14: =IF(I14<>"",RANK(I14,$I$3:$I$11,1),"") | L14: =IF(K14<>"",RANK(K14,$K$3:$K$11,1),"") | N14: =IF(M14<>"",RANK(M14,$M$3:$M$11,1),"") | P14: =IF(O14<>"",RANK(O14,$O$3:$O$11,1),"") | Q14: =IF(B14<>"",B14,"") | S14: =SUM(K14,I14,E14,C14,M14) -> 0
A15: 13 | D15: =IF(C15<>"",RANK(C15,$C$3:$C$11,1),"") | F15: =IF(E15<>"",RANK(E15,$E$3:$E$11,1),"") | G15: 0.0027177083 | H15: =IF(G15<>"",RANK(G15,$G$3:$G$11,1),"") -> 2 | J15: =IF(I15<>"",RANK(I15,$I$3:$I$11,1),"") | L15: =IF(K15<>"",RANK(K15,$K$3:$K$11,1),"") | N15: =IF(M15<>"",RANK(M15,$M$3:$M$11,1),"") | P15: =IF(O15<>"",RANK(O15,$O$3:$O$11,1),"") | Q15: =IF(B15<>"",B15,"") | S15: =SUM(K15,I15,E15,C15,M15) -> 0
A16: 14 | D16: =IF(C16<>"",RANK(C16,$C$3:$C$11,1),"") | F16: =IF(E16<>"",RANK(E16,$E$3:$E$11,1),"") | G16: 0.0027177083 | H16: =IF(G16<>"",RANK(G16,$G$3:$G$11,1),"") -> 2 | J16: =IF(I16<>"",RANK(I16,$I$3:$I$11,1),"") | L16: =IF(K16<>"",RANK(K16,$K$3:$K$11,1),"") | N16: =IF(M16<>"",RANK(M16,$M$3:$M$11,1),"") | P16: =IF(O16<>"",RANK(O16,$O$3:$O$11,1),"") | Q16: =IF(B16<>"",B16,"") | S16: =SUM(K16,I16,E16,C16,M16) -> 0
B21: Entry Example | C21: 0.0072157407 | E21: 0.0031649306 | I21: 0.00078842593 | K21: 0.0072157407 | M21: 0.0030388889
I22: 0.00067800926

Sheet Mix
B2: SCHOOL | C2: Team Run | D2: Place | E2: Obstacle Course | F2: Place | G2: CCR | H2: Place | I2: Rope Bridge | J2: Place | K2: CCR | L2: Place | M2: Raider Item Carry | N2: Place | O2: Total Quality Points | P2: Overall Finish | Q2: SCHOOL | R2: Group | S2: Overall Time | T2: Verified (Yes or No)
A3: 1 | B3: Dublin | C3: 0.018310185 | D3: =IF(C3<>"",RANK(C3,$C$3:$C$18,1),"") -> 6 | E3: 0.018343171 | F3: =IF(E3<>"",RANK(E3,$E$3:$E$18,1),"") -> 6 | G3: 0.0030460648 | H3: =IF(G3<>"",RANK(G3,$G$3:$G$13,1),"") -> 1 | I3: 0.041661921 | J3: =IF(I3<>"",RANK(I3,$I$3:$I$18,1),"") -> 5 | K3: 0.021689815 | L3: =IF(K3<>"",RANK(K3,$K$3:$K$18,1),"") -> 7 | M3: 0.006484375 | N3: =IF(M3<>"",RANK(M3,$M$3:$M$18,1),"") -> 6 | O3: =SUM(D3,F3,J3,L3,N3) -> 30 | P3: =IF(O3<>"",RANK(O3,$O$3:$O$18,1),"") -> 6 | Q3: =B3 -> Dublin | S3: =SUM(K3,I3,E3,C3,M3) -> 0.10648947
A4: 2 | B4: New Hampstead | C4: 0.011284722 | D4: =IF(C4<>"",RANK(C4,$C$3:$C$18,1),"") -> 3 | E4: 0.0057576389 | F4: =IF(E4<>"",RANK(E4,$E$3:$E$18,1),"") -> 4 | G4: 0.125 | H4: =IF(G4<>"",RANK(G4,$G$3:$G$13,1),"") -> 3 | I4: 0.0016997685 | J4: =IF(I4<>"",RANK(I4,$I$3:$I$18,1),"") -> 4 | K4: 0.010042477 | L4: =IF(K4<>"",RANK(K4,$K$3:$K$18,1),"") -> 5 | M4: 0.0052136574 | N4: =IF(M4<>"",RANK(M4,$M$3:$M$18,1),"") -> 5 | O4: =SUM(D4,F4,J4,L4,N4) -> 21 | P4: =IF(O4<>"",RANK(O4,$O$3:$O$18,1),"") -> 4 | Q4: =B4 -> New Hampstead | S4: =SUM(K4,I4,E4,C4,M4) -> 0.033998264
A5: 3 | B5: Northside (A) | C5: 0.011967593 | D5: =IF(C5<>"",RANK(C5,$C$3:$C$18,1),"") -> 4 | E5: 0.0050546296 | F5: =IF(E5<>"",RANK(E5,$E$3:$E$18,1),"") -> 3 | G5: 0.16666667 | H5: =IF(G5<>"",RANK(G5,$G$3:$G$13,1),"") -> 4 | I5: 0.0010484954 | J5: =IF(I5<>"",RANK(I5,$I$3:$I$18,1),"") -> 1 | K5: 0.0061618056 | L5: =IF(K5<>"",RANK(K5,$K$3:$K$18,1),"") -> 1 | M5: 0.0031810185 | N5: =IF(M5<>"",RANK(M5,$M$3:$M$18,1),"") -> 2 | O5: =SUM(D5,F5,J5,L5,N5) -> 11 | P5: =IF(O5<>"",RANK(O5,$O$3:$O$18,1),"") -> 2 | Q5: =B5 -> Northside (A) | S5: =SUM(K5,I5,E5,C5,M5) -> 0.027413542
A6: 4 | B6: Northside (B) | C6: 0.012453704 | D6: =IF(C6<>"",RANK(C6,$C$3:$C$18,1),"") -> 5 | E6: 0.0059917824 | F6: =IF(E6<>"",RANK(E6,$E$3:$E$18,1),"") -> 5 | G6: 0.20833333 | H6: =IF(G6<>"",RANK(G6,$G$3:$G$13,1),"") -> 5 | I6: 0.041661921 | J6: =IF(I6<>"",RANK(I6,$I$3:$I$18,1),"") -> 5 | K6: 0.0071458333 | L6: =IF(K6<>"",RANK(K6,$K$3:$K$18,1),"") -> 4 | M6: 0.0046596065 | N6: =IF(M6<>"",RANK(M6,$M$3:$M$18,1),"") -> 4 | O6: =SUM(D6,F6,J6,L6,N6) -> 23 | P6: =IF(O6<>"",RANK(O6,$O$3:$O$18,1),"") -> 5 | Q6: =B6 -> Northside (B) | S6: =SUM(K6,I6,E6,C6,M6) -> 0.071912847
A7: 5 | B7: Smith Station | C7: 0.010393519 | D7: =IF(C7<>"",RANK(C7,$C$3:$C$18,1),"") -> 2 | E7: 0.0043351852 | F7: =IF(E7<>"",RANK(E7,$E$3:$E$18,1),"") -> 2 | G7: 0.25 | H7: =IF(G7<>"",RANK(G7,$G$3:$G$13,1),"") -> 6 | I7: 0.0015881944 | J7: =IF(I7<>"",RANK(I7,$I$3:$I$18,1),"") -> 2 | K7: 0.0066568287 | L7: =IF(K7<>"",RANK(K7,$K$3:$K$18,1),"") -> 2 | M7: 0.003940625 | N7: =IF(M7<>"",RANK(M7,$M$3:$M$18,1),"") -> 3 | O7: =SUM(D7,F7,J7,L7,N7) -> 11 | P7: =IF(O7<>"",RANK(O7,$O$3:$O$18,1),"") -> 2 | Q7: =B7 -> Smith Station | S7: =SUM(K7,I7,E7,C7,M7) -> 0.026914352
A8: 6 | B8: Veterans | C8: 0.0096267361 | D8: =IF(C8<>"",RANK(C8,$C$3:$C$18,1),"") -> 1 | E8: 0.0039857639 | F8: =IF(E8<>"",RANK(E8,$E$3:$E$18,1),"") -> 1 | G8: 0.33333333 | H8: =IF(G8<>"",RANK(G8,$G$3:$G$13,1),"") -> 7 | I8: 0.0016675926 | J8: =IF(I8<>"",RANK(I8,$I$3:$I$18,1),"") -> 3 | K8: 0.0069145833 | L8: =IF(K8<>"",RANK(K8,$K$3:$K$18,1),"") -> 3 | M8: 0.0031246528 | N8: =IF(M8<>"",RANK(M8,$M$3:$M$18,1),"") -> 1 | O8: =SUM(D8,F8,J8,L8,N8) -> 9 | P8: =IF(O8<>"",RANK(O8,$O$3:$O$18,1),"") -> 1 | Q8: =B8 -> Veterans | S8: =SUM(K8,I8,E8,C8,M8) -> 0.025319329
A9: 7 | B9: Wilkinson Co | C9: 0.019902199 | D9: =IF(C9<>"",RANK(C9,$C$3:$C$18,1),"") -> 7 | E9: 0.019723611 | F9: =IF(E9<>"",RANK(E9,$E$3:$E$18,1),"") -> 7 | G9: 0.375 | H9: =IF(G9<>"",RANK(G9,$G$3:$G$13,1),"") -> 8 | I9: 0.041661921 | J9: =IF(I9<>"",RANK(I9,$I$3:$I$18,1),"") -> 5 | K9: 0.013031944 | L9: =IF(K9<>"",RANK(K9,$K$3:$K$18,1),"") -> 6 | M9: 0.041661921 | N9: =IF(M9<>"",RANK(M9,$M$3:$M$18,1),"") -> 7 | O9: =SUM(D9,F9,J9,L9,N9) -> 32 | P9: =IF(O9<>"",RANK(O9,$O$3:$O$18,1),"") -> 7 | Q9: =B9 -> Wilkinson Co | S9: =SUM(K9,I9,E9,C9,M9) -> 0.1359816
A10: 8 | D10: =IF(C10<>"",RANK(C10,$C$3:$C$18,1),"") | F10: =IF(E10<>"",RANK(E10,$E$3:$E$18,1),"") | G10: 0.41666667 | H10: =IF(G10<>"",RANK(G10,$G$3:$G$13,1),"") -> 9 | J10: =IF(I10<>"",RANK(I10,$I$3:$I$18,1),"") | L10: =IF(K10<>"",RANK(K10,$K$3:$K$18,1),"") | N10: =IF(M10<>"",RANK(M10,$M$3:$M$18,1),"") | P10: =IF(O10<>"",RANK(O10,$O$3:$O$18,1),"") | Q10: =B10 -> 0 | S10: =SUM(K10,I10,E10,C10,M10) -> 0
A11: 9 | D11: =IF(C11<>"",RANK(C11,$C$3:$C$18,1),"") | F11: =IF(E11<>"",RANK(E11,$E$3:$E$18,1),"") | G11: 0.45833333 | H11: =IF(G11<>"",RANK(G11,$G$3:$G$13,1),"") -> 10 | J11: =IF(I11<>"",RANK(I11,$I$3:$I$18,1),"") | L11: =IF(K11<>"",RANK(K11,$K$3:$K$18,1),"") | N11: =IF(M11<>"",RANK(M11,$M$3:$M$18,1),"") | P11: =IF(O11<>"",RANK(O11,$O$3:$O$18,1),"") | Q11: =B11 -> 0 | S11: =SUM(K11,I11,E11,C11,M11) -> 0
A12: 10 | D12: =IF(C12<>"",RANK(C12,$C$3:$C$18,1),"") | F12: =IF(E12<>"",RANK(E12,$E$3:$E$18,1),"") | G12: 0.5 | H12: =IF(G12<>"",RANK(G12,$G$3:$G$13,1),"") -> 11 | J12: =IF(I12<>"",RANK(I12,$I$3:$I$18,1),"") | L12: =IF(K12<>"",RANK(K12,$K$3:$K$18,1),"") | N12: =IF(M12<>"",RANK(M12,$M$3:$M$18,1),"") | P12: =IF(O12<>"",RANK(O12,$O$3:$O$18,1),"") | Q12: =B12 -> 0 | S12: =SUM(K12,I12,E12,C12,M12) -> 0
A13: 11 | D13: =IF(C13<>"",RANK(C13,$C$3:$C$18,1),"") | F13: =IF(E13<>"",RANK(E13,$E$3:$E$18,1),"") | G13: 0.04546169 | H13: =IF(G13<>"",RANK(G13,$G$3:$G$13,1),"") -> 2 | J13: =IF(I13<>"",RANK(I13,$I$3:$I$18,1),"") | L13: =IF(K13<>"",RANK(K13,$K$3:$K$18,1),"") | N13: =IF(M13<>"",RANK(M13,$M$3:$M$18,1),"") | P13: =IF(O13<>"",RANK(O13,$O$3:$O$18,1),"") | Q13: =B13 -> 0 | S13: =SUM(K13,I13,E13,C13,M13) -> 0
A14: 12 | D14: =IF(C14<>"",RANK(C14,$C$3:$C$18,1),"") | F14: =IF(E14<>"",RANK(E14,$E$3:$E$18,1),"") | J14: =IF(I14<>"",RANK(I14,$I$3:$I$18,1),"") | L14: =IF(K14<>"",RANK(K14,$K$3:$K$18,1),"") | N14: =IF(M14<>"",RANK(M14,$M$3:$M$18,1),"") | P14: =IF(O14<>"",RANK(O14,$O$3:$O$18,1),"") | Q14: =B14 -> 0 | S14: =SUM(K14,I14,E14,C14,M14) -> 0
A15: 13 | D15: =IF(C15<>"",RANK(C15,$C$3:$C$18,1),"") | F15: =IF(E15<>"",RANK(E15,$E$3:$E$18,1),"") | J15: =IF(I15<>"",RANK(I15,$I$3:$I$18,1),"") | L15: =IF(K15<>"",RANK(K15,$K$3:$K$18,1),"") | N15: =IF(M15<>"",RANK(M15,$M$3:$M$18,1),"") | P15: =IF(O15<>"",RANK(O15,$O$3:$O$18,1),"") | Q15: =B15 -> 0 | S15: =SUM(K15,I15,E15,C15,M15) -> 0
A16: 14 | D16: =IF(C16<>"",RANK(C16,$C$3:$C$18,1),"") | F16: =IF(E16<>"",RANK(E16,$E$3:$E$18,1),"") | J16: =IF(I16<>"",RANK(I16,$I$3:$I$18,1),"") | L16: =IF(K16<>"",RANK(K16,$K$3:$K$18,1),"") | N16: =IF(M16<>"",RANK(M16,$M$3:$M$18,1),"") | P16: =IF(O16<>"",RANK(O16,$O$3:$O$18,1),"") | Q16: =B16 -> 0 | S16: =SUM(K16,I16,E16,C16,M16) -> 0
A17: 15 | D17: =IF(C17<>"",RANK(C17,$C$3:$C$18,1),"") | F17: =IF(E17<>"",RANK(E17,$E$3:$E$18,1),"") | J17: =IF(I17<>"",RANK(I17,$I$3:$I$18,1),"") | L17: =IF(K17<>"",RANK(K17,$K$3:$K$18,1),"") | N17: =IF(M17<>"",RANK(M17,$M$3:$M$18,1),"") | P17: =IF(O17<>"",RANK(O17,$O$3:$O$18,1),"") | Q17: =B17 -> 0 | S17: =SUM(K17,I17,E17,C17,M17) -> 0
A18: 16 | D18: =IF(C18<>"",RANK(C18,$C$3:$C$18,1),"") | F18: =IF(E18<>"",RANK(E18,$E$3:$E$18,1),"") | J18: =IF(I18<>"",RANK(I18,$I$3:$I$18,1),"") | L18: =IF(K18<>"",RANK(K18,$K$3:$K$18,1),"") | N18: =IF(M18<>"",RANK(M18,$M$3:$M$18,1),"") | P18: =IF(O18<>"",RANK(O18,$O$3:$O$18,1),"") | Q18: =B18 -> 0 | S18: =SUM(K18,I18,E18,C18,M18) -> 0
B24: Entry Example | C24: 0.0072157407 | E24: 0.0031649306 | I24: 0.00078842593 | K24: 0.0072157407 | M24: 0.0030388889
I25: 0.00067800926

Sheet Female
B2: SCHOOL | C2: Team Run | D2: Place | E2: Obstacle Course | F2: Place | G2: CCR | H2: Place | I2: Rope Bridge | J2: Place | K2: CCR | L2: Place | M2: Raider Item Carry | N2: Place | O2: Total Quality Points | P2: Overall Finish | Q2: SCHOOL | R2: Group | S2: Overall Time | T2: Verified (Yes or No)
A3: 1 | B3: New Hampstead (Y) | C3: 0.012905093 | D3: =IF(C3<>"",RANK(C3,$C$3:$C$8,1),"") -> 5 | E3: 0.009578588 | F3: =IF(E3<>"",RANK(E3,$E$3:$E$8,1),"") -> 4 | G3: 0.125 | H3: =IF(G3<>"",RANK(G3,$G$3:$G$7,1),"") -> 3 | I3: 0.0017689815 | J3: =IF(I3<>"",RANK(I3,$I$3:$I$8,1),"") -> 5 | K3: 0.010755903 | L3: =IF(K3<>"",RANK(K3,$K$3:$K$8,1),"") -> 4 | M3: 0.0061196759 | N3: =IF(M3<>"",RANK(M3,$M$3:$M$8,1),"") -> 5 | O3: =SUM(D3,F3,J3,L3,N3) -> 23 | P3: =IF(O3<>"",RANK(O3,$O$3:$O$8,1),"") -> 5 | Q3: =IF(B3<>"",B3,"") -> New Hampstead (Y) | S3: =SUM(K3,I3,E3,C3,M3) -> 0.041128241
A4: 2 | B4: New Hampstead (M) | C4: 0.01150463 | D4: =IF(C4<>"",RANK(C4,$C$3:$C$8,1),"") -> 4 | E4: 0.0098427083 | F4: =IF(E4<>"",RANK(E4,$E$3:$E$8,1),"") -> 5 | G4: 0.16666667 | H4: =IF(G4<>"",RANK(G4,$G$3:$G$7,1),"") -> 4 | I4: 0.0017420139 | J4: =IF(I4<>"",RANK(I4,$I$3:$I$8,1),"") -> 4 | K4: 0.013131481 | L4: =IF(K4<>"",RANK(K4,$K$3:$K$8,1),"") -> 5 | M4: 0.0044925926 | N4: =IF(M4<>"",RANK(M4,$M$3:$M$8,1),"") -> 4 | O4: =SUM(D4,F4,J4,L4,N4) -> 22 | P4: =IF(O4<>"",RANK(O4,$O$3:$O$8,1),"") -> 4 | Q4: =IF(B4<>"",B4,"") -> New Hampstead (M) | S4: =SUM(K4,I4,E4,C4,M4) -> 0.040713426
A5: 3 | B5: Perry | C5: 0.011365972 | D5: =IF(C5<>"",RANK(C5,$C$3:$C$8,1),"") -> 3 | E5: 0.0054770833 | F5: =IF(E5<>"",RANK(E5,$E$3:$E$8,1),"") -> 2 | G5: 0.20833333 | H5: =IF(G5<>"",RANK(G5,$G$3:$G$7,1),"") -> 5 | I5: 0.00082916667 | J5: =IF(I5<>"",RANK(I5,$I$3:$I$8,1),"") -> 1 | K5: 0.0093023148 | L5: =IF(K5<>"",RANK(K5,$K$3:$K$8,1),"") -> 3 | M5: 0.0032873843 | N5: =IF(M5<>"",RANK(M5,$M$3:$M$8,1),"") -> 3 | O5: =SUM(D5,F5,J5,L5,N5) -> 12 | P5: =IF(O5<>"",RANK(O5,$O$3:$O$8,1),"") -> 2 | Q5: =IF(B5<>"",B5,"") -> Perry | S5: =SUM(K5,I5,E5,C5,M5) -> 0.030261921
A6: 4 | B6: Richmond Hill | C6: 0.01018044 | D6: =IF(C6<>"",RANK(C6,$C$3:$C$8,1),"") -> 2 | E6: 0.0061390046 | F6: =IF(E6<>"",RANK(E6,$E$3:$E$8,1),"") -> 3 | G6: 0.005890625 | H6: =IF(G6<>"",RANK(G6,$G$3:$G$7,1),"") -> 1 | I6: 0.0012313657 | J6: =IF(I6<>"",RANK(I6,$I$3:$I$8,1),"") -> 3 | K6: 0.0074554398 | L6: =IF(K6<>"",RANK(K6,$K$3:$K$8,1),"") -> 2 | M6: 0.0031445602 | N6: =IF(M6<>"",RANK(M6,$M$3:$M$8,1),"") -> 2 | O6: =SUM(D6,F6,J6,L6,N6) -> 12 | P6: =IF(O6<>"",RANK(O6,$O$3:$O$8,1),"") -> 2 | Q6: =IF(B6<>"",B6,"") -> Richmond Hill | S6: =SUM(K6,I6,E6,C6,M6) -> 0.02815081
A7: 5 | B7: Veterans | C7: 0.009058912 | D7: =IF(C7<>"",RANK(C7,$C$3:$C$8,1),"") -> 1 | E7: 0.0036170139 | F7: =IF(E7<>"",RANK(E7,$E$3:$E$8,1),"") -> 1 | G7: 0.047557292 | H7: =IF(G7<>"",RANK(G7,$G$3:$G$7,1),"") -> 2 | I7: 0.0011365741 | J7: =IF(I7<>"",RANK(I7,$I$3:$I$8,1),"") -> 2 | K7: 0.0065523148 | L7: =IF(K7<>"",RANK(K7,$K$3:$K$8,1),"") -> 1 | M7: 0.0026736111 | N7: =IF(M7<>"",RANK(M7,$M$3:$M$8,1),"") -> 1 | O7: =SUM(D7,F7,J7,L7,N7) -> 6 | P7: =IF(O7<>"",RANK(O7,$O$3:$O$8,1),"") -> 1 | Q7: =IF(B7<>"",B7,"") -> Veterans | S7: =SUM(K7,I7,E7,C7,M7) -> 0.023038426
A8: 6 | D8: =IF(C8<>"",RANK(C8,$C$3:$C$8,1),"") | F8: =IF(E8<>"",RANK(E8,$E$3:$E$8,1),"") | J8: =IF(I8<>"",RANK(I8,$I$3:$I$8,1),"") | L8: =IF(K8<>"",RANK(K8,$K$3:$K$8,1),"") | N8: =IF(M8<>"",RANK(M8,$M$3:$M$8,1),"") | P8: =IF(O8<>"",RANK(O8,$O$3:$O$8,1),"") | Q8: =IF(B8<>"",B8,"") | S8: =SUM(K8,I8,E8,C8,M8) -> 0
A9: 7 | D9: =IF(C9<>"",RANK(C9,$C$3:$C$8,1),"") | F9: =IF(E9<>"",RANK(E9,$E$3:$E$8,1),"") | J9: =IF(I9<>"",RANK(I9,$I$3:$I$8,1),"") | L9: =IF(K9<>"",RANK(K9,$K$3:$K$8,1),"") | N9: =IF(M9<>"",RANK(M9,$M$3:$M$8,1),"") | S9: =SUM(K9,I9,E9,C9,M9) -> 0
A10: 8 | D10: =IF(C10<>"",RANK(C10,$C$3:$C$8,1),"") | F10: =IF(E10<>"",RANK(E10,$E$3:$E$8,1),"") | J10: =IF(I10<>"",RANK(I10,$I$3:$I$8,1),"") | L10: =IF(K10<>"",RANK(K10,$K$3:$K$8,1),"") | N10: =IF(M10<>"",RANK(M10,$M$3:$M$8,1),"") | S10: =SUM(K10,I10,E10,C10,M10) -> 0
A11: 9 | D11: =IF(C11<>"",RANK(C11,$C$3:$C$8,1),"") | F11: =IF(E11<>"",RANK(E11,$E$3:$E$8,1),"") | J11: =IF(I11<>"",RANK(I11,$I$3:$I$8,1),"") | L11: =IF(K11<>"",RANK(K11,$K$3:$K$8,1),"") | N11: =IF(M11<>"",RANK(M11,$M$3:$M$8,1),"") | S11: =SUM(K11,I11,E11,C11,M11) -> 0
B17: Entry Example | C17: 0.0072157407 | E17: 0.0031649306 | I17: 0.00078842593 | K17: 0.0072157407 | M17: 0.0030388889
I18: 0.000678125

Sheet Results
A1: RESULTS
A2: FEMALE | C2: MIX | E2: MALE
A3: =Female!$C2 -> Team Run | C3: =Female!$C2 -> Team Run | E3: =Female!$C2 -> Team Run
A4: 3 | B4: =VLOOKUP(A4,Female!D:Q,14,FALSE) -> Perry | C4: 3 | D4: =VLOOKUP(C4,Mix!D:Q,14,FALSE) -> New Hampstead | E4: 3 | F4: =VLOOKUP(E4,Male!D:Q,14,FALSE) -> Glenn Acad
A5: 2 | B5: =VLOOKUP(A5,Female!D:Q,14,FALSE) -> Richmond Hill | C5: 2 | D5: =VLOOKUP(C5,Mix!D:Q,14,FALSE) -> Smith Station | E5: 2 | F5: =VLOOKUP(E5,Male!D:Q,14,FALSE) -> Benedictine (M)
A6: 1 | B6: =VLOOKUP(A6,Female!D:Q,14,FALSE) -> Veterans | C6: 1 | D6: =VLOOKUP(C6,Mix!D:Q,14,FALSE) -> Veterans | E6: 1 | F6: =VLOOKUP(E6,Male!D:Q,14,FALSE) -> Veterans
A8: =Female!$E2 -> Obstacle Course | C8: =Female!$E2 -> Obstacle Course | E8: =Female!$E2 -> Obstacle Course
A9: 3 | B9: =VLOOKUP(A9,Female!F:Q,12,FALSE) -> Richmond Hill | C9: 3 | D9: =VLOOKUP(C9,Mix!F:Q,12,FALSE) -> Northside (A) | E9: 3 | F9: =VLOOKUP(E9,Male!F:Q,12,FALSE) -> Glenn Acad
A10: 2 | B10: =VLOOKUP(A10,Female!F:Q,12,FALSE) -> Perry | C10: 2 | D10: =VLOOKUP(C10,Mix!F:Q,12,FALSE) -> Smith Station | E10: 2 | F10: =VLOOKUP(E10,Male!F:Q,12,FALSE) -> Perry Varsity
A11: 1 | B11: =VLOOKUP(A11,Female!F:Q,12,FALSE) -> Veterans | C11: 1 | D11: =VLOOKUP(C11,Mix!F:Q,12,FALSE) -> Veterans | E11: 1 | F11: =VLOOKUP(E11,Male!F:Q,12,FALSE) -> Veterans
A13: =Female!$G2 -> CCR | C13: =Female!$G2 -> CCR | E13: =Female!$G2 -> CCR
A14: 3 | B14: =VLOOKUP(A14,Female!H:Q,10,FALSE) -> New Hampstead (Y) | C14: 3 | D14: =VLOOKUP(C14,Mix!H:Q,10,FALSE) -> New Hampstead | E14: 3 | F14: =VLOOKUP(E14,Male!H:Q,10,FALSE) -> Perry JV
A15: 2 | B15: =VLOOKUP(A15,Female!H:Q,10,FALSE) -> Veterans | C15: 2 | D15: =VLOOKUP(C15,Mix!H:Q,10,FALSE) -> 0 | E15: 2 | F15: =VLOOKUP(E15,Male!H:Q,10,FALSE) -> Veterans
A16: 1 | B16: =VLOOKUP(A16,Female!H:Q,10,FALSE) -> Richmond Hill | C16: 1 | D16: =VLOOKUP(C16,Mix!H:Q,10,FALSE) -> Dublin | E16: 1 | F16: =VLOOKUP(E16,Male!H:Q,10,FALSE) -> New Hampstead
A18: =Female!$I2 -> Rope Bridge | C18: =Female!$I2 -> Rope Bridge | E18: =Female!$I2 -> Rope Bridge
A19: 3 | B19: =VLOOKUP(A19,Female!J:Q,8,FALSE) -> Richmond Hill | C19: 3 | D19: =VLOOKUP(C19,Mix!J:Q,8,FALSE) -> Veterans | E19: 3 | F19: =VLOOKUP(E19,Male!J:Q,8,FALSE) -> Benedictine (M)
A20: 2 | B20: =VLOOKUP(A20,Female!J:Q,8,FALSE) -> Veterans | C20: 2 | D20: =VLOOKUP(C20,Mix!J:Q,8,FALSE) -> Smith Station | E20: 2 | F20: =VLOOKUP(E20,Male!J:Q,8,FALSE) -> Perry Varsity
A21: 1 | B21: =VLOOKUP(A21,Female!J:Q,8,FALSE) -> Perry | C21: 1 | D21: =VLOOKUP(C21,Mix!J:Q,8,FALSE) -> Northside (A) | E21: 1 | F21: =VLOOKUP(E21,Male!J:Q,8,FALSE) -> Veterans
A23: =Female!$K2 -> CCR | C23: =Female!$K2 -> CCR | E23: =Female!$K2 -> CCR
A24: 3 | B24: =VLOOKUP(A24,Female!L:Q,6,FALSE) -> Perry | C24: 3 | D24: =VLOOKUP(C24,Mix!L:Q,6,FALSE) -> Veterans | E24: 3 | F24: =VLOOKUP(E24,Male!L:Q,6,FALSE) -> Glenn Acad
A25: 2 | B25: =VLOOKUP(A25,Female!L:Q,6,FALSE) -> Richmond Hill | C25: 2 | D25: =VLOOKUP(C25,Mix!L:Q,6,FALSE) -> Smith Station | E25: 2 | F25: =VLOOKUP(E25,Male!L:Q,6,FALSE) -> Veterans
A26: 1 | B26: =VLOOKUP(A26,Female!L:Q,6,FALSE) -> Veterans | C26: 1 | D26: =VLOOKUP(C26,Mix!L:Q,6,FALSE) -> Northside (A) | E26: 1 | F26: =VLOOKUP(E26,Male!L:Q,6,FALSE) -> Benedictine (M)
A28: =Female!$M2 -> Raider Item Carry | C28: =Female!$M2 -> Raider Item Carry | E28: =Female!$M2 -> Raider Item Carry
A29: 3 | B29: =VLOOKUP(A29,Female!N:Q,4,FALSE) -> Perry | C29: 3 | D29: =VLOOKUP(C29,Mix!N:Q,4,FALSE) -> Smith Station | E29: 3 | F29: =VLOOKUP(E29,Male!N:Q,4,FALSE) -> Glenn Acad
A30: 2 | B30: =VLOOKUP(A30,Female!N:Q,4,FALSE) -> Richmond Hill | C30: 2 | D30: =VLOOKUP(C30,Mix!N:Q,4,FALSE) -> Northside (A) | E30: 2 | F30: =VLOOKUP(E30,Male!N:Q,4,FALSE) -> Benedictine (M)
A31: 1 | B31: =VLOOKUP(A31,Female!N:Q,4,FALSE) -> Veterans | C31: 1 | D31: =VLOOKUP(C31,Mix!N:Q,4,FALSE) -> Veterans | E31: 1 | F31: =VLOOKUP(E31,Male!N:Q,4,FALSE) -> Veterans
A32: OVERALL
A34: FEMALE | C34: MIX | E34: MALE
A35: *3 | B35: Perry | C35: *3 | D35: Northside (A) | E35: 3 | F35: =VLOOKUP(E35,Male!P:Q,2,FALSE) -> Glenn Acad
A36: *2 | B36: Richmond Hill | C36: *2 | D36: Smith Station | E36: 2 | F36: =VLOOKUP(E36,Male!P:Q,2,FALSE) -> Benedictine (M)
A37: 1 | B37: =VLOOKUP(A37,Female!P:Q,2,FALSE) -> Veterans | C37: 1 | D37: =VLOOKUP(C37,Mix!P:Q,2,FALSE) -> Veterans | E37: 1 | F37: =VLOOKUP(E37,Male!P:Q,2,FALSE) -> Veterans
A39: * | B39: Tiebreaker Team Run

Sheet Results 1
A1: Overall Male | C1: Overall MIX | E1: Overall Female
A6: Female
B7: CCR | D7: RFC | F7: Sled | H7: Relay
A8: 3 | C8: 3 | E8: 3 | G8: 3
A9: 2 | C9: 2 | E9: 2 | G9: 2
A10: 1 | C10: 1 | E10: 1 | G10: 1
A12: Mixed
B13: CCR | D13: RFC | F13: Sled | H13: Relay
A14: 3 | C14: 3 | E14: 3 | G14: 3
A15: 2 | C15: 2 | E15: 2 | G15: 2
A16: 1 | C16: 1 | E16: 1 | G16: 1
A18: Male
B19: CCR | D19: RFC | F19: Sled | H19: Relay
A20: 3 | C20: 3 | E20: 3 | G20: 3
A21: 2 | C21: 2 | E21: 2 | G21: 2
A22: 1 | C22: 1 | E22: 1 | G22: 1

Sheet Helper
A1: Notes
A2: Adds | B2: To add a team, in the School column, type over a cell with EMPTY#, or add to the next blank cell. Consider this a new row.
A4: Deletes | B4: To remove a team, like EMPTY1, just delete the text in the School column, cell A.
B5: Next delete the text from cell N (column Total Points). This will null cell O (Overall Finish) and prevent the row from being included in the Results sheet Overall results.
B6: To exclude empty rows from the Results tab Overall results, delete values cell N (Total Points).
A8: Undo | B8: If you accidently type in the wrong cell, press the esc key, or undo your changes Edit > Undo Typing
A9: Time Entry | B9: When entering times, include the delimiters ":" and "." in your entries (ex: 01:19.25)
A10: Time Format | B10: Cell formatting: select cell > right-mouse click > choose Format Cells > Number tab > Category: Custom > Type: mm:ss.00
C11: Cell formatting for times <= 23:59, format as hh:mm:ss
C12: Cell formatting for times > 23:59, format as [h]:mm:ss
C13: To track hundredths of seconds, append .00 (ex: mm:ss.00)
B15: A mouse double-click will reset formatting to include a date. Don't panic and reset cell format using above steps
A17: RANK formula explained | B17: source: https://exceljet.net/excel-functions/excel-rank-function
B18: You can use the RANK function to rank numeric values. RANK has two modes of operation: ranking values so that the largest value is ranked #1 (order = 0), and ranking values so that the smallest value is #1 (order = 1).
B19: =RANK(C2,Team Relay,1) -or- =RANK(C2,$B$2:$B$24,1) [where "Team Relay" is a Named Range]
A22: Column:Row formula | B22: C:2 | C22: =IF(B2<>"",RANK(B2,$B$2:$B$24,1),"") | E22: Populate cell C:2 with results from: If B2 is null then display null, otherwise, check B2 in relation to B2 thru B24 and order it where lower value is better.
B23: C:3 | C23: =IF(B3<>"",RANK(B3,$B$2:$B$24,1),"")
B24: C:4 | C24: =IF(B4<>"",RANK(B4,$B$2:$B$24,1),"")
B25: . . .
B26: K:2 | C26: =IF(J2<>"",RANK(J2,$J$2:$J$24,1),"")
B27: K:3 | C27: =IF(J3<>"",RANK(J3,$J$2:$J$24,1),"")
B28: K:4 | C28: =IF(J4<>"",RANK(J4,$J$2:$J$24,1),"")
A30: VLOOKUP formula explained | B30: source: https://exceljet.net/excel-functions/excel-vlookup-function
A31: Female sheet | B31: VLOOKUP is an Excel function to lookup and retrieve data from a specific column in table. VLOOKUP supports approximate and exact matching, and wildcards (* ?) for partial matches.
B32: The "V" stands for "vertical". Lookup values must appear in the first column of the table, with lookup columns to the right.
B34: Syntax
C35: =VLOOKUP (value, table, col_index, [range_lookup])
B36: Arguments
C37: value - The value to look for in the first column of a table.
C38: table - The table from which to retrieve a value.
C39: col_index - The column in the table from which to retrieve a value.
C40: range_lookup - [optional] TRUE = approximate match (default). FALSE = exact match.
B42: =VLOOKUP(A36,Female!O:P,2,FALSE)
B43: =VLOOKUP (value, table, col_index, [range_lookup])
B44: Above, look for value (in cell A36 (value = 1)), from table (Sheet = Female, columns O thru P), exactly matching value in cell A36, and return col_index 2 (name for column P, the School)
C45: In this example, cell A36 is the number 1, so get me the School who had the Overall Finish of 1.
C46: The table is Female, specifically columns O and P, "Overall Finish" and "School Name"
C47: col_index is 2, the 2nd column from the table Female!O:P, or P, the School Name
C48: [range_lookup] is FALSE, for an exact match
A53: TesterRow - Info Only | B53: 1.3625 | D53: 1.0944444 | F53: 0.9 | J53: 1.75 | L53: 0.23125
